{"text_format":"3","workbook":"xlsx","n_sheets":3,"sheets":["For Honeywell","Lists","1"],"not_rendered":{"macros":1,"defined_names":6},"read":"whole","date_system":"1900"}

{"sheet":"For Honeywell","index":0,"n_rows":5,"n_cols":4,"rows_kept":5,"merged":[[3,1,3,5],[4,1,4,2],[4,3,4,5]]}
[]
[]
[]
[null,"FWE oppsett Decimal eller HEX for tekstimport"]
[null,"Velg i drop down:",null,"Decimal"]

{"sheet":"Lists","index":1,"n_rows":127,"n_cols":13,"rows_kept":127,"hidden":true}
[{"$nulls":12},"Decimal"]
[1,1,"802171 - IQ8Quad termisk maks, A1S","Overskriv med JA eller NEI",{"$nulls":8},"Hex"]
[2,2,"802177 - IQ8Quad termisk maks, BS","Overskriv med JA eller NEI"]
[3,3,"802271 - IQ8Quad termisk differensial, A1R","Overskriv med JA eller NEI"]
[4,4,"802371 - IQ8Quad optisk røykdetektor, O","Overskriv med JA eller NEI"]
[5,5,"802373 - IQ8Quad multisensor, optisk/termisk, OT","Overskriv med JA eller NEI"]
[6,6,"802374 - IQ8Quad multisensor optisk, optisk/termisk, O2T","Overskriv med JA eller NEI"]
[7,7,"802375 - IQ8Quad multisensor optisk/term., Otblue","Overskriv med JA eller NEI"]
[8,8,"802379 - IQ8Quad - kanaldetektor Otblue","Ikke relevant"]
[9,9,"802382 - IQ8Quad, optisk med summer (O/So)","Ikke relevant",2]
[10,10,"802383 - IQ8Quad O²T med flash (O2T/F)","Ikke relevant",2]
[11,11,"802384 - IQ8Quad O²T med summer (O2T/So)","Ikke relevant",2]
[12,12,"802385 - IQ8Quad O²T med flash og summer (O2T/FSp)","Ikke relevant",3]
[13,13,"802473 - IQ8Quad multisensor optisk/termisk/CO, OTG","Overskriv med JA eller NEI"]
[14,14,"803171 - IQ8Quad termisk maks, A1S for kalde omgivelser","Overskriv med JA eller NEI"]
[15,15,"804971/804961 - Manuell melder","Ikke relevant"]
[16,16,"807205(W/R) - IQ8Alarm/So","Ikke relevant",3]
[17,17,"807214RR - IQ8Alarm/F","Ikke relevant",3]
[18,18,"807224(RR/RW) - IQ8Alarm/FSo","Ikke relevant",4.5]
[19,19,"807372RR.N0 - IQ8Alarm/FSp","Ikke relevant",7]
[20,20,"808606 - Transponder IQ8FCT XS","Ikke relevant"]
[21,21,"808610.10 - Esser transponder utgangsmodul - 12 reléer","Ikke relevant"]
[22,22,"808621 - Transponder IQ8FCT LP","Ikke relevant"]
[23,23,"808623 - Esser Transponder 4 inn/2 ut","Ikke relevant"]
[24,24,"808630.10 - Esser transponder fremmedmelder","Ikke relevant"]
[25,25]
[26,26]
[27,27]
[28,28]
[29,29]
[30,30]
[31,31]
[32,32]
[33,33]
[34,34]
[35,35]
[36,36]
[37,37]
[38,38]
[39,39]
[40,40]
[41,41]
[42,42]
[43,43]
[44,44]
[45,45]
[46,46]
[47,47]
[48,48]
[49,49]
[50,50]
[51,51]
[52,52]
[53,53]
[54,54]
[55,55]
[56,56]
[57,57]
[58,58]
[59,59]
[60,60]
[61,61]
[62,62]
[63,63]
[64,64]
[65,65]
[66,66]
[67,67]
[68,68]
[69,69]
[70,70]
[71,71]
[72,72]
[73,73]
[74,74]
[75,75]
[76,76]
[77,77]
[78,78]
[79,79]
[80,80]
[81,81]
[82,82]
[83,83]
[84,84]
[85,85]
[86,86]
[87,87]
[88,88]
[89,89]
[90,90]
[91,91]
[92,92]
[93,93]
[94,94]
[95,95]
[96,96]
[97,97]
[98,98]
[99,99]
[null,100]
[null,101]
[null,102]
[null,103]
[null,104]
[null,105]
[null,106]
[null,107]
[null,108]
[null,109]
[null,110]
[null,111]
[null,112]
[null,113]
[null,114]
[null,115]
[null,116]
[null,117]
[null,118]
[null,119]
[null,120]
[null,121]
[null,122]
[null,123]
[null,124]
[null,125]
[null,126]

{"sheet":"1","index":2,"n_rows":133,"n_cols":10,"rows_kept":133,"merged":[[1,0,1,1],[2,0,2,1]]}
[null,null,{"$f":"'For Honeywell'!$D5","v":"Decimal"},{"$f":"\"Total lastfaktor for sløyfe: \"&SUM(F6:F131)","v":"Total lastfaktor for sløyfe: 0"}]
["Sløyfenummer",null,1,{"$nulls":6},"Eksempler på gode tekster:"]
["Antall adresser",null,1]
[{"$nulls":9},"02.001 BYGG A 1.ETG KORRIDOR VED RESEPSJON "]
["Detektornr.","Detektornavn (Bruk STORE BOKSTAVER)","Antall tegn","Detektortype","Relesokkel","Lastfaktor",{"$nulls":3},"02.002 BYGG A 1.ETG KORRIDOR VED RESEPSJON M.M"]
[{"$f":"_xlfn.IFS(C1=\"Decimal\",(IF(INT(RIGHT(CONCATENATE(IF($C$2<10,CONCATENATE(\"0\",$C$2),$C$2),\".\",\"001\"),3))<($C$3+1),CONCATENATE(IF($C$2<10,CONCATENATE(\"0\",$C$2),$C$2),\".\",\"001\"),\"\")),C1=\"Hex\",(IF(INT(RIGHT(CONCATENATE(IF($C$2<10,CONCATENATE(\"0\",$C$2),$C$2),\".\",\"001\"),3))<($C$3+1),CONCATENATE(DEC2HEX($C$2),\".\",\"001\"),\"\")))","v":"01.001"},"",{"$f":"IF(LEN(B6)=0,\"\",LEN(B6))","v":""},null,{"$f":"IFERROR(VLOOKUP(D6,Lists!C:D,2,FALSE),\"\")","v":""},{"$f":"IFERROR(VLOOKUP(D6,Lists!C:E,3,FALSE),\"\")","v":""},{"$nulls":3},"02.003 BYGG A 2.ETG KONTOR VED DAMETOALETT O.H"]
[{"$f":"_xlfn.IFS(C1=\"Decimal\",(IF(INT(RIGHT(CONCATENATE(IF($C$2<10,CONCATENATE(\"0\",$C$2),$C$2),\".\",\"002\"),3))<($C$3+1),CONCATENATE(IF($C$2<10,CONCATENATE(\"0\",$C$2),$C$2),\".\",\"002\"),\"\")),C1=\"Hex\",(IF(INT(RIGHT(CONCATENATE(IF($C$2<10,CONCATENATE(\"0\",$C$2),$C$2),\".\",\"002\"),3))<($C$3+1),CONCATENATE(DEC2HEX($C$2),\".\",\"002\"),\"\")))","v":""},"",{"$f":"IF(LEN(B7)=0,\"\",LEN(B7))","v":""},null,{"$f":"IFERROR(VLOOKUP(D7,Lists!C:D,2,FALSE),\"\")","v":""},{"$f":"IFERROR(VLOOKUP(D7,Lists!C:E,3,FALSE),\"\")","v":""},{"$nulls":3},"02.004 BYGG A 2.ETG DATAROM U.G"]
[{"$f":"_xlfn.IFS(C1=\"Decimal\",(IF(INT(RIGHT(CONCATENATE(IF($C$2<10,CONCATENATE(\"0\",$C$2),$C$2),\".\",\"003\"),3))<($C$3+1),CONCATENATE(IF($C$2<10,CONCATENATE(\"0\",$C$2),$C$2),\".\",\"003\"),\"\")),C1=\"Hex\",(IF(INT(RIGHT(CONCATENATE(IF($C$2<10,CONCATENATE(\"0\",$C$2),$C$2),\".\",\"003\"),3))<($C$3+1),CONCATENATE(DEC2HEX($C$2),\".\",\"003\"),\"\")))","v":""},"","",null,{"$f":"IFERROR(VLOOKUP(D8,Lists!C:D,2,FALSE),\"\")","v":""},{"$f":"IFERROR(VLOOKUP(D8,Lists!C:E,3,FALSE),\"\")","v":""},{"$nulls":3},"FORKLARING: M.M = MANUELL MELDER,   O.H = OVER HIMLING,   U.G = UNDER GULV"]
[{"$f":"_xlfn.IFS(C1=\"Decimal\",(IF(INT(RIGHT(CONCATENATE(IF($C$2<10,CONCATENATE(\"0\",$C$2),$C$2),\".\",\"004\"),3))<($C$3+1),CONCATENATE(IF($C$2<10,CONCATENATE(\"0\",$C$2),$C$2),\".\",\"004\"),\"\")),C1=\"Hex\",(IF(INT(RIGHT(CONCATENATE(IF($C$2<10,CONCATENATE(\"0\",$C$2),$C$2),\".\",\"004\"),3))<($C$3+1),CONCATENATE(DEC2HEX($C$2),\".\",\"004\"),\"\")))","v":""},"","",null,{"$f":"IFERROR(VLOOKUP(D9,Lists!C:D,2,FALSE),\"\")","v":""},{"$f":"IFERROR(VLOOKUP(D9,Lists!C:E,3,FALSE),\"\")","v":""}]
[{"$f":"_xlfn.IFS(C1=\"Decimal\",(IF(INT(RIGHT(CONCATENATE(IF($C$2<10,CONCATENATE(\"0\",$C$2),$C$2),\".\",\"005\"),3))<($C$3+1),CONCATENATE(IF($C$2<10,CONCATENATE(\"0\",$C$2),$C$2),\".\",\"005\"),\"\")),C1=\"Hex\",(IF(INT(RIGHT(CONCATENATE(IF($C$2<10,CONCATENATE(\"0\",$C$2),$C$2),\".\",\"005\"),3))<($C$3+1),CONCATENATE(DEC2HEX($C$2),\".\",\"005\"),\"\")))","v":""},"","",null,{"$f":"IFERROR(VLOOKUP(D10,Lists!C:D,2,FALSE),\"\")","v":""},{"$f":"IFERROR(VLOOKUP(D10,Lists!C:E,3,FALSE),\"\")","v":""}]
[{"$f":"_xlfn.IFS(C1=\"Decimal\",(IF(INT(RIGHT(CONCATENATE(IF($C$2<10,CONCATENATE(\"0\",$C$2),$C$2),\".\",\"006\"),3))<($C$3+1),CONCATENATE(IF($C$2<10,CONCATENATE(\"0\",$C$2),$C$2),\".\",\"006\"),\"\")),C1=\"Hex\",(IF(INT(RIGHT(CONCATENATE(IF($C$2<10,CONCATENATE(\"0\",$C$2),$C$2),\".\",\"006\"),3))<($C$3+1),CONCATENATE(DEC2HEX($C$2),\".\",\"006\"),\"\")))","v":""},"","",null,{"$f":"IFERROR(VLOOKUP(D11,Lists!C:D,2,FALSE),\"\")","v":""},{"$f":"IFERROR(VLOOKUP(D11,Lists!C:E,3,FALSE),\"\")","v":""}]
[{"$f":"_xlfn.IFS(C1=\"Decimal\",(IF(INT(RIGHT(CONCATENATE(IF($C$2<10,CONCATENATE(\"0\",$C$2),$C$2),\".\",\"007\"),3))<($C$3+1),CONCATENATE(IF($C$2<10,CONCATENATE(\"0\",$C$2),$C$2),\".\",\"007\"),\"\")),C1=\"Hex\",(IF(INT(RIGHT(CONCATENATE(IF($C$2<10,CONCATENATE(\"0\",$C$2),$C$2),\".\",\"007\"),3))<($C$3+1),CONCATENATE(DEC2HEX($C$2),\".\",\"007\"),\"\")))","v":""},"","",null,{"$f":"IFERROR(VLOOKUP(D12,Lists!C:D,2,FALSE),\"\")","v":""},{"$f":"IFERROR(VLOOKUP(D12,Lists!C:E,3,FALSE),\"\")","v":""}]
[{"$f":"_xlfn.IFS(C1=\"Decimal\",(IF(INT(RIGHT(CONCATENATE(IF($C$2<10,CONCATENATE(\"0\",$C$2),$C$2),\".\",\"008\"),3))<($C$3+1),CONCATENATE(IF($C$2<10,CONCATENATE(\"0\",$C$2),$C$2),\".\",\"008\"),\"\")),C1=\"Hex\",(IF(INT(RIGHT(CONCATENATE(IF($C$2<10,CONCATENATE(\"0\",$C$2),$C$2),\".\",\"008\"),3))<($C$3+1),CONCATENATE(DEC2HEX($C$2),\".\",\"008\"),\"\")))","v":""},"","",null,{"$f":"IFERROR(VLOOKUP(D13,Lists!C:D,2,FALSE),\"\")","v":""},{"$f":"IFERROR(VLOOKUP(D13,Lists!C:E,3,FALSE),\"\")","v":""}]
[{"$f":"_xlfn.IFS(C1=\"Decimal\",(IF(INT(RIGHT(CONCATENATE(IF($C$2<10,CONCATENATE(\"0\",$C$2),$C$2),\".\",\"009\"),3))<($C$3+1),CONCATENATE(IF($C$2<10,CONCATENATE(\"0\",$C$2),$C$2),\".\",\"009\"),\"\")),C1=\"Hex\",(IF(INT(RIGHT(CONCATENATE(IF($C$2<10,CONCATENATE(\"0\",$C$2),$C$2),\".\",\"009\"),3))<($C$3+1),CONCATENATE(DEC2HEX($C$2),\".\",\"009\"),\"\")))","v":""},"","",null,{"$f":"IFERROR(VLOOKUP(D14,Lists!C:D,2,FALSE),\"\")","v":""},{"$f":"IFERROR(VLOOKUP(D14,Lists!C:E,3,FALSE),\"\")","v":""}]
[{"$f":"_xlfn.IFS(C1=\"Decimal\",(IF(INT(RIGHT(CONCATENATE(IF($C$2<10,CONCATENATE(\"0\",$C$2),$C$2),\".\",\"010\"),3))<($C$3+1),CONCATENATE(IF($C$2<10,CONCATENATE(\"0\",$C$2),$C$2),\".\",\"010\"),\"\")),C1=\"Hex\",(IF(INT(RIGHT(CONCATENATE(IF($C$2<10,CONCATENATE(\"0\",$C$2),$C$2),\".\",\"010\"),3))<($C$3+1),CONCATENATE(DEC2HEX($C$2),\".\",\"010\"),\"\")))","v":""},"","",null,{"$f":"IFERROR(VLOOKUP(D15,Lists!C:D,2,FALSE),\"\")","v":""},{"$f":"IFERROR(VLOOKUP(D15,Lists!C:E,3,FALSE),\"\")","v":""}]
[{"$f":"_xlfn.IFS(C1=\"Decimal\",(IF(INT(RIGHT(CONCATENATE(IF($C$2<10,CONCATENATE(\"0\",$C$2),$C$2),\".\",\"011\"),3))<($C$3+1),CONCATENATE(IF($C$2<10,CONCATENATE(\"0\",$C$2),$C$2),\".\",\"011\"),\"\")),C1=\"Hex\",(IF(INT(RIGHT(CONCATENATE(IF($C$2<10,CONCATENATE(\"0\",$C$2),$C$2),\".\",\"011\"),3))<($C$3+1),CONCATENATE(DEC2HEX($C$2),\".\",\"011\"),\"\")))","v":""},"","",null,{"$f":"IFERROR(VLOOKUP(D16,Lists!C:D,2,FALSE),\"\")","v":""},{"$f":"IFERROR(VLOOKUP(D16,Lists!C:E,3,FALSE),\"\")","v":""}]
[{"$f":"_xlfn.IFS(C1=\"Decimal\",(IF(INT(RIGHT(CONCATENATE(IF($C$2<10,CONCATENATE(\"0\",$C$2),$C$2),\".\",\"012\"),3))<($C$3+1),CONCATENATE(IF($C$2<10,CONCATENATE(\"0\",$C$2),$C$2),\".\",\"012\"),\"\")),C1=\"Hex\",(IF(INT(RIGHT(CONCATENATE(IF($C$2<10,CONCATENATE(\"0\",$C$2),$C$2),\".\",\"012\"),3))<($C$3+1),CONCATENATE(DEC2HEX($C$2),\".\",\"012\"),\"\")))","v":""},"","",null,{"$f":"IFERROR(VLOOKUP(D17,Lists!C:D,2,FALSE),\"\")","v":""},{"$f":"IFERROR(VLOOKUP(D17,Lists!C:E,3,FALSE),\"\")","v":""}]
[{"$f":"_xlfn.IFS(C1=\"Decimal\",(IF(INT(RIGHT(CONCATENATE(IF($C$2<10,CONCATENATE(\"0\",$C$2),$C$2),\".\",\"013\"),3))<($C$3+1),CONCATENATE(IF($C$2<10,CONCATENATE(\"0\",$C$2),$C$2),\".\",\"013\"),\"\")),C1=\"Hex\",(IF(INT(RIGHT(CONCATENATE(IF($C$2<10,CONCATENATE(\"0\",$C$2),$C$2),\".\",\"013\"),3))<($C$3+1),CONCATENATE(DEC2HEX($C$2),\".\",\"013\"),\"\")))","v":""},"","",null,{"$f":"IFERROR(VLOOKUP(D18,Lists!C:D,2,FALSE),\"\")","v":""},{"$f":"IFERROR(VLOOKUP(D18,Lists!C:E,3,FALSE),\"\")","v":""}]
[{"$f":"_xlfn.IFS(C1=\"Decimal\",(IF(INT(RIGHT(CONCATENATE(IF($C$2<10,CONCATENATE(\"0\",$C$2),$C$2),\".\",\"014\"),3))<($C$3+1),CONCATENATE(IF($C$2<10,CONCATENATE(\"0\",$C$2),$C$2),\".\",\"014\"),\"\")),C1=\"Hex\",(IF(INT(RIGHT(CONCATENATE(IF($C$2<10,CONCATENATE(\"0\",$C$2),$C$2),\".\",\"014\"),3))<($C$3+1),CONCATENATE(DEC2HEX($C$2),\".\",\"014\"),\"\")))","v":""},"","",null,{"$f":"IFERROR(VLOOKUP(D19,Lists!C:D,2,FALSE),\"\")","v":""},{"$f":"IFERROR(VLOOKUP(D19,Lists!C:E,3,FALSE),\"\")","v":""}]
[{"$f":"_xlfn.IFS(C1=\"Decimal\",(IF(INT(RIGHT(CONCATENATE(IF($C$2<10,CONCATENATE(\"0\",$C$2),$C$2),\".\",\"015\"),3))<($C$3+1),CONCATENATE(IF($C$2<10,CONCATENATE(\"0\",$C$2),$C$2),\".\",\"015\"),\"\")),C1=\"Hex\",(IF(INT(RIGHT(CONCATENATE(IF($C$2<10,CONCATENATE(\"0\",$C$2),$C$2),\".\",\"015\"),3))<($C$3+1),CONCATENATE(DEC2HEX($C$2),\".\",\"015\"),\"\")))","v":""},"","",null,{"$f":"IFERROR(VLOOKUP(D20,Lists!C:D,2,FALSE),\"\")","v":""},{"$f":"IFERROR(VLOOKUP(D20,Lists!C:E,3,FALSE),\"\")","v":""}]
[{"$f":"_xlfn.IFS(C1=\"Decimal\",(IF(INT(RIGHT(CONCATENATE(IF($C$2<10,CONCATENATE(\"0\",$C$2),$C$2),\".\",\"016\"),3))<($C$3+1),CONCATENATE(IF($C$2<10,CONCATENATE(\"0\",$C$2),$C$2),\".\",\"016\"),\"\")),C1=\"Hex\",(IF(INT(RIGHT(CONCATENATE(IF($C$2<10,CONCATENATE(\"0\",$C$2),$C$2),\".\",\"016\"),3))<($C$3+1),CONCATENATE(DEC2HEX($C$2),\".\",\"016\"),\"\")))","v":""},"","",null,{"$f":"IFERROR(VLOOKUP(D21,Lists!C:D,2,FALSE),\"\")","v":""},{"$f":"IFERROR(VLOOKUP(D21,Lists!C:E,3,FALSE),\"\")","v":""}]
[{"$f":"_xlfn.IFS(C1=\"Decimal\",(IF(INT(RIGHT(CONCATENATE(IF($C$2<10,CONCATENATE(\"0\",$C$2),$C$2),\".\",\"017\"),3))<($C$3+1),CONCATENATE(IF($C$2<10,CONCATENATE(\"0\",$C$2),$C$2),\".\",\"017\"),\"\")),C1=\"Hex\",(IF(INT(RIGHT(CONCATENATE(IF($C$2<10,CONCATENATE(\"0\",$C$2),$C$2),\".\",\"017\"),3))<($C$3+1),CONCATENATE(DEC2HEX($C$2),\".\",\"017\"),\"\")))","v":""},"","",null,{"$f":"IFERROR(VLOOKUP(D22,Lists!C:D,2,FALSE),\"\")","v":""},{"$f":"IFERROR(VLOOKUP(D22,Lists!C:E,3,FALSE),\"\")","v":""}]
[{"$f":"_xlfn.IFS(C1=\"Decimal\",(IF(INT(RIGHT(CONCATENATE(IF($C$2<10,CONCATENATE(\"0\",$C$2),$C$2),\".\",\"018\"),3))<($C$3+1),CONCATENATE(IF($C$2<10,CONCATENATE(\"0\",$C$2),$C$2),\".\",\"018\"),\"\")),C1=\"Hex\",(IF(INT(RIGHT(CONCATENATE(IF($C$2<10,CONCATENATE(\"0\",$C$2),$C$2),\".\",\"018\"),3))<($C$3+1),CONCATENATE(DEC2HEX($C$2),\".\",\"018\"),\"\")))","v":""},"","",null,{"$f":"IFERROR(VLOOKUP(D23,Lists!C:D,2,FALSE),\"\")","v":""},{"$f":"IFERROR(VLOOKUP(D23,Lists!C:E,3,FALSE),\"\")","v":""}]
[{"$f":"_xlfn.IFS(C1=\"Decimal\",(IF(INT(RIGHT(CONCATENATE(IF($C$2<10,CONCATENATE(\"0\",$C$2),$C$2),\".\",\"019\"),3))<($C$3+1),CONCATENATE(IF($C$2<10,CONCATENATE(\"0\",$C$2),$C$2),\".\",\"019\"),\"\")),C1=\"Hex\",(IF(INT(RIGHT(CONCATENATE(IF($C$2<10,CONCATENATE(\"0\",$C$2),$C$2),\".\",\"019\"),3))<($C$3+1),CONCATENATE(DEC2HEX($C$2),\".\",\"019\"),\"\")))","v":""},"","",null,{"$f":"IFERROR(VLOOKUP(D24,Lists!C:D,2,FALSE),\"\")","v":""},{"$f":"IFERROR(VLOOKUP(D24,Lists!C:E,3,FALSE),\"\")","v":""}]
[{"$f":"_xlfn.IFS(C1=\"Decimal\",(IF(INT(RIGHT(CONCATENATE(IF($C$2<10,CONCATENATE(\"0\",$C$2),$C$2),\".\",\"020\"),3))<($C$3+1),CONCATENATE(IF($C$2<10,CONCATENATE(\"0\",$C$2),$C$2),\".\",\"020\"),\"\")),C1=\"Hex\",(IF(INT(RIGHT(CONCATENATE(IF($C$2<10,CONCATENATE(\"0\",$C$2),$C$2),\".\",\"020\"),3))<($C$3+1),CONCATENATE(DEC2HEX($C$2),\".\",\"020\"),\"\")))","v":""},"","",null,{"$f":"IFERROR(VLOOKUP(D25,Lists!C:D,2,FALSE),\"\")","v":""},{"$f":"IFERROR(VLOOKUP(D25,Lists!C:E,3,FALSE),\"\")","v":""}]
[{"$f":"_xlfn.IFS(C1=\"Decimal\",(IF(INT(RIGHT(CONCATENATE(IF($C$2<10,CONCATENATE(\"0\",$C$2),$C$2),\".\",\"021\"),3))<($C$3+1),CONCATENATE(IF($C$2<10,CONCATENATE(\"0\",$C$2),$C$2),\".\",\"021\"),\"\")),C1=\"Hex\",(IF(INT(RIGHT(CONCATENATE(IF($C$2<10,CONCATENATE(\"0\",$C$2),$C$2),\".\",\"021\"),3))<($C$3+1),CONCATENATE(DEC2HEX($C$2),\".\",\"021\"),\"\")))","v":""},"","",null,{"$f":"IFERROR(VLOOKUP(D26,Lists!C:D,2,FALSE),\"\")","v":""},{"$f":"IFERROR(VLOOKUP(D26,Lists!C:E,3,FALSE),\"\")","v":""}]
[{"$f":"_xlfn.IFS(C1=\"Decimal\",(IF(INT(RIGHT(CONCATENATE(IF($C$2<10,CONCATENATE(\"0\",$C$2),$C$2),\".\",\"022\"),3))<($C$3+1),CONCATENATE(IF($C$2<10,CONCATENATE(\"0\",$C$2),$C$2),\".\",\"022\"),\"\")),C1=\"Hex\",(IF(INT(RIGHT(CONCATENATE(IF($C$2<10,CONCATENATE(\"0\",$C$2),$C$2),\".\",\"022\"),3))<($C$3+1),CONCATENATE(DEC2HEX($C$2),\".\",\"022\"),\"\")))","v":""},"","",null,{"$f":"IFERROR(VLOOKUP(D27,Lists!C:D,2,FALSE),\"\")","v":""},{"$f":"IFERROR(VLOOKUP(D27,Lists!C:E,3,FALSE),\"\")","v":""}]
[{"$f":"_xlfn.IFS(C1=\"Decimal\",(IF(INT(RIGHT(CONCATENATE(IF($C$2<10,CONCATENATE(\"0\",$C$2),$C$2),\".\",\"023\"),3))<($C$3+1),CONCATENATE(IF($C$2<10,CONCATENATE(\"0\",$C$2),$C$2),\".\",\"023\"),\"\")),C1=\"Hex\",(IF(INT(RIGHT(CONCATENATE(IF($C$2<10,CONCATENATE(\"0\",$C$2),$C$2),\".\",\"023\"),3))<($C$3+1),CONCATENATE(DEC2HEX($C$2),\".\",\"023\"),\"\")))","v":""},"","",null,{"$f":"IFERROR(VLOOKUP(D28,Lists!C:D,2,FALSE),\"\")","v":""},{"$f":"IFERROR(VLOOKUP(D28,Lists!C:E,3,FALSE),\"\")","v":""}]
[{"$f":"_xlfn.IFS(C1=\"Decimal\",(IF(INT(RIGHT(CONCATENATE(IF($C$2<10,CONCATENATE(\"0\",$C$2),$C$2),\".\",\"024\"),3))<($C$3+1),CONCATENATE(IF($C$2<10,CONCATENATE(\"0\",$C$2),$C$2),\".\",\"024\"),\"\")),C1=\"Hex\",(IF(INT(RIGHT(CONCATENATE(IF($C$2<10,CONCATENATE(\"0\",$C$2),$C$2),\".\",\"024\"),3))<($C$3+1),CONCATENATE(DEC2HEX($C$2),\".\",\"024\"),\"\")))","v":""},"","",null,{"$f":"IFERROR(VLOOKUP(D29,Lists!C:D,2,FALSE),\"\")","v":""},{"$f":"IFERROR(VLOOKUP(D29,Lists!C:E,3,FALSE),\"\")","v":""}]
[{"$f":"_xlfn.IFS(C1=\"Decimal\",(IF(INT(RIGHT(CONCATENATE(IF($C$2<10,CONCATENATE(\"0\",$C$2),$C$2),\".\",\"025\"),3))<($C$3+1),CONCATENATE(IF($C$2<10,CONCATENATE(\"0\",$C$2),$C$2),\".\",\"025\"),\"\")),C1=\"Hex\",(IF(INT(RIGHT(CONCATENATE(IF($C$2<10,CONCATENATE(\"0\",$C$2),$C$2),\".\",\"025\"),3))<($C$3+1),CONCATENATE(DEC2HEX($C$2),\".\",\"025\"),\"\")))","v":""},"","",null,{"$f":"IFERROR(VLOOKUP(D30,Lists!C:D,2,FALSE),\"\")","v":""},{"$f":"IFERROR(VLOOKUP(D30,Lists!C:E,3,FALSE),\"\")","v":""}]
[{"$f":"_xlfn.IFS(C1=\"Decimal\",(IF(INT(RIGHT(CONCATENATE(IF($C$2<10,CONCATENATE(\"0\",$C$2),$C$2),\".\",\"026\"),3))<($C$3+1),CONCATENATE(IF($C$2<10,CONCATENATE(\"0\",$C$2),$C$2),\".\",\"026\"),\"\")),C1=\"Hex\",(IF(INT(RIGHT(CONCATENATE(IF($C$2<10,CONCATENATE(\"0\",$C$2),$C$2),\".\",\"026\"),3))<($C$3+1),CONCATENATE(DEC2HEX($C$2),\".\",\"026\"),\"\")))","v":""},"","",null,{"$f":"IFERROR(VLOOKUP(D31,Lists!C:D,2,FALSE),\"\")","v":""},{"$f":"IFERROR(VLOOKUP(D31,Lists!C:E,3,FALSE),\"\")","v":""}]
[{"$f":"_xlfn.IFS(C1=\"Decimal\",(IF(INT(RIGHT(CONCATENATE(IF($C$2<10,CONCATENATE(\"0\",$C$2),$C$2),\".\",\"027\"),3))<($C$3+1),CONCATENATE(IF($C$2<10,CONCATENATE(\"0\",$C$2),$C$2),\".\",\"027\"),\"\")),C1=\"Hex\",(IF(INT(RIGHT(CONCATENATE(IF($C$2<10,CONCATENATE(\"0\",$C$2),$C$2),\".\",\"027\"),3))<($C$3+1),CONCATENATE(DEC2HEX($C$2),\".\",\"027\"),\"\")))","v":""},"","",null,{"$f":"IFERROR(VLOOKUP(D32,Lists!C:D,2,FALSE),\"\")","v":""},{"$f":"IFERROR(VLOOKUP(D32,Lists!C:E,3,FALSE),\"\")","v":""}]
[{"$f":"_xlfn.IFS(C1=\"Decimal\",(IF(INT(RIGHT(CONCATENATE(IF($C$2<10,CONCATENATE(\"0\",$C$2),$C$2),\".\",\"028\"),3))<($C$3+1),CONCATENATE(IF($C$2<10,CONCATENATE(\"0\",$C$2),$C$2),\".\",\"028\"),\"\")),C1=\"Hex\",(IF(INT(RIGHT(CONCATENATE(IF($C$2<10,CONCATENATE(\"0\",$C$2),$C$2),\".\",\"028\"),3))<($C$3+1),CONCATENATE(DEC2HEX($C$2),\".\",\"028\"),\"\")))","v":""},"","",null,{"$f":"IFERROR(VLOOKUP(D33,Lists!C:D,2,FALSE),\"\")","v":""},{"$f":"IFERROR(VLOOKUP(D33,Lists!C:E,3,FALSE),\"\")","v":""}]
[{"$f":"_xlfn.IFS(C1=\"Decimal\",(IF(INT(RIGHT(CONCATENATE(IF($C$2<10,CONCATENATE(\"0\",$C$2),$C$2),\".\",\"029\"),3))<($C$3+1),CONCATENATE(IF($C$2<10,CONCATENATE(\"0\",$C$2),$C$2),\".\",\"029\"),\"\")),C1=\"Hex\",(IF(INT(RIGHT(CONCATENATE(IF($C$2<10,CONCATENATE(\"0\",$C$2),$C$2),\".\",\"029\"),3))<($C$3+1),CONCATENATE(DEC2HEX($C$2),\".\",\"029\"),\"\")))","v":""},"","",null,{"$f":"IFERROR(VLOOKUP(D34,Lists!C:D,2,FALSE),\"\")","v":""},{"$f":"IFERROR(VLOOKUP(D34,Lists!C:E,3,FALSE),\"\")","v":""}]
[{"$f":"_xlfn.IFS(C1=\"Decimal\",(IF(INT(RIGHT(CONCATENATE(IF($C$2<10,CONCATENATE(\"0\",$C$2),$C$2),\".\",\"030\"),3))<($C$3+1),CONCATENATE(IF($C$2<10,CONCATENATE(\"0\",$C$2),$C$2),\".\",\"030\"),\"\")),C1=\"Hex\",(IF(INT(RIGHT(CONCATENATE(IF($C$2<10,CONCATENATE(\"0\",$C$2),$C$2),\".\",\"030\"),3))<($C$3+1),CONCATENATE(DEC2HEX($C$2),\".\",\"030\"),\"\")))","v":""},"","",null,{"$f":"IFERROR(VLOOKUP(D35,Lists!C:D,2,FALSE),\"\")","v":""},{"$f":"IFERROR(VLOOKUP(D35,Lists!C:E,3,FALSE),\"\")","v":""}]
[{"$f":"_xlfn.IFS(C1=\"Decimal\",(IF(INT(RIGHT(CONCATENATE(IF($C$2<10,CONCATENATE(\"0\",$C$2),$C$2),\".\",\"031\"),3))<($C$3+1),CONCATENATE(IF($C$2<10,CONCATENATE(\"0\",$C$2),$C$2),\".\",\"031\"),\"\")),C1=\"Hex\",(IF(INT(RIGHT(CONCATENATE(IF($C$2<10,CONCATENATE(\"0\",$C$2),$C$2),\".\",\"031\"),3))<($C$3+1),CONCATENATE(DEC2HEX($C$2),\".\",\"031\"),\"\")))","v":""},"","",null,{"$f":"IFERROR(VLOOKUP(D36,Lists!C:D,2,FALSE),\"\")","v":""},{"$f":"IFERROR(VLOOKUP(D36,Lists!C:E,3,FALSE),\"\")","v":""}]
[{"$f":"_xlfn.IFS(C1=\"Decimal\",(IF(INT(RIGHT(CONCATENATE(IF($C$2<10,CONCATENATE(\"0\",$C$2),$C$2),\".\",\"032\"),3))<($C$3+1),CONCATENATE(IF($C$2<10,CONCATENATE(\"0\",$C$2),$C$2),\".\",\"032\"),\"\")),C1=\"Hex\",(IF(INT(RIGHT(CONCATENATE(IF($C$2<10,CONCATENATE(\"0\",$C$2),$C$2),\".\",\"032\"),3))<($C$3+1),CONCATENATE(DEC2HEX($C$2),\".\",\"032\"),\"\")))","v":""},"","",null,{"$f":"IFERROR(VLOOKUP(D37,Lists!C:D,2,FALSE),\"\")","v":""},{"$f":"IFERROR(VLOOKUP(D37,Lists!C:E,3,FALSE),\"\")","v":""}]
[{"$f":"_xlfn.IFS(C1=\"Decimal\",(IF(INT(RIGHT(CONCATENATE(IF($C$2<10,CONCATENATE(\"0\",$C$2),$C$2),\".\",\"033\"),3))<($C$3+1),CONCATENATE(IF($C$2<10,CONCATENATE(\"0\",$C$2),$C$2),\".\",\"033\"),\"\")),C1=\"Hex\",(IF(INT(RIGHT(CONCATENATE(IF($C$2<10,CONCATENATE(\"0\",$C$2),$C$2),\".\",\"033\"),3))<($C$3+1),CONCATENATE(DEC2HEX($C$2),\".\",\"033\"),\"\")))","v":""},"","",null,{"$f":"IFERROR(VLOOKUP(D38,Lists!C:D,2,FALSE),\"\")","v":""},{"$f":"IFERROR(VLOOKUP(D38,Lists!C:E,3,FALSE),\"\")","v":""}]
[{"$f":"_xlfn.IFS(C1=\"Decimal\",(IF(INT(RIGHT(CONCATENATE(IF($C$2<10,CONCATENATE(\"0\",$C$2),$C$2),\".\",\"034\"),3))<($C$3+1),CONCATENATE(IF($C$2<10,CONCATENATE(\"0\",$C$2),$C$2),\".\",\"034\"),\"\")),C1=\"Hex\",(IF(INT(RIGHT(CONCATENATE(IF($C$2<10,CONCATENATE(\"0\",$C$2),$C$2),\".\",\"034\"),3))<($C$3+1),CONCATENATE(DEC2HEX($C$2),\".\",\"034\"),\"\")))","v":""},"","",null,{"$f":"IFERROR(VLOOKUP(D39,Lists!C:D,2,FALSE),\"\")","v":""},{"$f":"IFERROR(VLOOKUP(D39,Lists!C:E,3,FALSE),\"\")","v":""}]
[{"$f":"_xlfn.IFS(C1=\"Decimal\",(IF(INT(RIGHT(CONCATENATE(IF($C$2<10,CONCATENATE(\"0\",$C$2),$C$2),\".\",\"035\"),3))<($C$3+1),CONCATENATE(IF($C$2<10,CONCATENATE(\"0\",$C$2),$C$2),\".\",\"035\"),\"\")),C1=\"Hex\",(IF(INT(RIGHT(CONCATENATE(IF($C$2<10,CONCATENATE(\"0\",$C$2),$C$2),\".\",\"035\"),3))<($C$3+1),CONCATENATE(DEC2HEX($C$2),\".\",\"035\"),\"\")))","v":""},"","",null,{"$f":"IFERROR(VLOOKUP(D40,Lists!C:D,2,FALSE),\"\")","v":""},{"$f":"IFERROR(VLOOKUP(D40,Lists!C:E,3,FALSE),\"\")","v":""}]
[{"$f":"_xlfn.IFS(C1=\"Decimal\",(IF(INT(RIGHT(CONCATENATE(IF($C$2<10,CONCATENATE(\"0\",$C$2),$C$2),\".\",\"036\"),3))<($C$3+1),CONCATENATE(IF($C$2<10,CONCATENATE(\"0\",$C$2),$C$2),\".\",\"036\"),\"\")),C1=\"Hex\",(IF(INT(RIGHT(CONCATENATE(IF($C$2<10,CONCATENATE(\"0\",$C$2),$C$2),\".\",\"036\"),3))<($C$3+1),CONCATENATE(DEC2HEX($C$2),\".\",\"036\"),\"\")))","v":""},"","",null,{"$f":"IFERROR(VLOOKUP(D41,Lists!C:D,2,FALSE),\"\")","v":""},{"$f":"IFERROR(VLOOKUP(D41,Lists!C:E,3,FALSE),\"\")","v":""}]
[{"$f":"_xlfn.IFS(C1=\"Decimal\",(IF(INT(RIGHT(CONCATENATE(IF($C$2<10,CONCATENATE(\"0\",$C$2),$C$2),\".\",\"037\"),3))<($C$3+1),CONCATENATE(IF($C$2<10,CONCATENATE(\"0\",$C$2),$C$2),\".\",\"037\"),\"\")),C1=\"Hex\",(IF(INT(RIGHT(CONCATENATE(IF($C$2<10,CONCATENATE(\"0\",$C$2),$C$2),\".\",\"037\"),3))<($C$3+1),CONCATENATE(DEC2HEX($C$2),\".\",\"037\"),\"\")))","v":""},"","",null,{"$f":"IFERROR(VLOOKUP(D42,Lists!C:D,2,FALSE),\"\")","v":""},{"$f":"IFERROR(VLOOKUP(D42,Lists!C:E,3,FALSE),\"\")","v":""}]
[{"$f":"_xlfn.IFS(C1=\"Decimal\",(IF(INT(RIGHT(CONCATENATE(IF($C$2<10,CONCATENATE(\"0\",$C$2),$C$2),\".\",\"038\"),3))<($C$3+1),CONCATENATE(IF($C$2<10,CONCATENATE(\"0\",$C$2),$C$2),\".\",\"038\"),\"\")),C1=\"Hex\",(IF(INT(RIGHT(CONCATENATE(IF($C$2<10,CONCATENATE(\"0\",$C$2),$C$2),\".\",\"038\"),3))<($C$3+1),CONCATENATE(DEC2HEX($C$2),\".\",\"038\"),\"\")))","v":""},"","",null,{"$f":"IFERROR(VLOOKUP(D43,Lists!C:D,2,FALSE),\"\")","v":""},{"$f":"IFERROR(VLOOKUP(D43,Lists!C:E,3,FALSE),\"\")","v":""}]
[{"$f":"_xlfn.IFS(C1=\"Decimal\",(IF(INT(RIGHT(CONCATENATE(IF($C$2<10,CONCATENATE(\"0\",$C$2),$C$2),\".\",\"039\"),3))<($C$3+1),CONCATENATE(IF($C$2<10,CONCATENATE(\"0\",$C$2),$C$2),\".\",\"039\"),\"\")),C1=\"Hex\",(IF(INT(RIGHT(CONCATENATE(IF($C$2<10,CONCATENATE(\"0\",$C$2),$C$2),\".\",\"039\"),3))<($C$3+1),CONCATENATE(DEC2HEX($C$2),\".\",\"039\"),\"\")))","v":""},"","",null,{"$f":"IFERROR(VLOOKUP(D44,Lists!C:D,2,FALSE),\"\")","v":""},{"$f":"IFERROR(VLOOKUP(D44,Lists!C:E,3,FALSE),\"\")","v":""}]
[{"$f":"_xlfn.IFS(C1=\"Decimal\",(IF(INT(RIGHT(CONCATENATE(IF($C$2<10,CONCATENATE(\"0\",$C$2),$C$2),\".\",\"040\"),3))<($C$3+1),CONCATENATE(IF($C$2<10,CONCATENATE(\"0\",$C$2),$C$2),\".\",\"040\"),\"\")),C1=\"Hex\",(IF(INT(RIGHT(CONCATENATE(IF($C$2<10,CONCATENATE(\"0\",$C$2),$C$2),\".\",\"040\"),3))<($C$3+1),CONCATENATE(DEC2HEX($C$2),\".\",\"040\"),\"\")))","v":""},"","",null,{"$f":"IFERROR(VLOOKUP(D45,Lists!C:D,2,FALSE),\"\")","v":""},{"$f":"IFERROR(VLOOKUP(D45,Lists!C:E,3,FALSE),\"\")","v":""}]
[{"$f":"_xlfn.IFS(C1=\"Decimal\",(IF(INT(RIGHT(CONCATENATE(IF($C$2<10,CONCATENATE(\"0\",$C$2),$C$2),\".\",\"041\"),3))<($C$3+1),CONCATENATE(IF($C$2<10,CONCATENATE(\"0\",$C$2),$C$2),\".\",\"041\"),\"\")),C1=\"Hex\",(IF(INT(RIGHT(CONCATENATE(IF($C$2<10,CONCATENATE(\"0\",$C$2),$C$2),\".\",\"041\"),3))<($C$3+1),CONCATENATE(DEC2HEX($C$2),\".\",\"041\"),\"\")))","v":""},"","",null,{"$f":"IFERROR(VLOOKUP(D46,Lists!C:D,2,FALSE),\"\")","v":""},{"$f":"IFERROR(VLOOKUP(D46,Lists!C:E,3,FALSE),\"\")","v":""}]
[{"$f":"_xlfn.IFS(C1=\"Decimal\",(IF(INT(RIGHT(CONCATENATE(IF($C$2<10,CONCATENATE(\"0\",$C$2),$C$2),\".\",\"042\"),3))<($C$3+1),CONCATENATE(IF($C$2<10,CONCATENATE(\"0\",$C$2),$C$2),\".\",\"042\"),\"\")),C1=\"Hex\",(IF(INT(RIGHT(CONCATENATE(IF($C$2<10,CONCATENATE(\"0\",$C$2),$C$2),\".\",\"042\"),3))<($C$3+1),CONCATENATE(DEC2HEX($C$2),\".\",\"042\"),\"\")))","v":""},"","",null,{"$f":"IFERROR(VLOOKUP(D47,Lists!C:D,2,FALSE),\"\")","v":""},{"$f":"IFERROR(VLOOKUP(D47,Lists!C:E,3,FALSE),\"\")","v":""}]
[{"$f":"_xlfn.IFS(C1=\"Decimal\",(IF(INT(RIGHT(CONCATENATE(IF($C$2<10,CONCATENATE(\"0\",$C$2),$C$2),\".\",\"043\"),3))<($C$3+1),CONCATENATE(IF($C$2<10,CONCATENATE(\"0\",$C$2),$C$2),\".\",\"043\"),\"\")),C1=\"Hex\",(IF(INT(RIGHT(CONCATENATE(IF($C$2<10,CONCATENATE(\"0\",$C$2),$C$2),\".\",\"043\"),3))<($C$3+1),CONCATENATE(DEC2HEX($C$2),\".\",\"043\"),\"\")))","v":""},"","",null,{"$f":"IFERROR(VLOOKUP(D48,Lists!C:D,2,FALSE),\"\")","v":""},{"$f":"IFERROR(VLOOKUP(D48,Lists!C:E,3,FALSE),\"\")","v":""}]
[{"$f":"_xlfn.IFS(C1=\"Decimal\",(IF(INT(RIGHT(CONCATENATE(IF($C$2<10,CONCATENATE(\"0\",$C$2),$C$2),\".\",\"044\"),3))<($C$3+1),CONCATENATE(IF($C$2<10,CONCATENATE(\"0\",$C$2),$C$2),\".\",\"044\"),\"\")),C1=\"Hex\",(IF(INT(RIGHT(CONCATENATE(IF($C$2<10,CONCATENATE(\"0\",$C$2),$C$2),\".\",\"044\"),3))<($C$3+1),CONCATENATE(DEC2HEX($C$2),\".\",\"044\"),\"\")))","v":""},"","",null,{"$f":"IFERROR(VLOOKUP(D49,Lists!C:D,2,FALSE),\"\")","v":""},{"$f":"IFERROR(VLOOKUP(D49,Lists!C:E,3,FALSE),\"\")","v":""}]
[{"$f":"_xlfn.IFS(C1=\"Decimal\",(IF(INT(RIGHT(CONCATENATE(IF($C$2<10,CONCATENATE(\"0\",$C$2),$C$2),\".\",\"045\"),3))<($C$3+1),CONCATENATE(IF($C$2<10,CONCATENATE(\"0\",$C$2),$C$2),\".\",\"045\"),\"\")),C1=\"Hex\",(IF(INT(RIGHT(CONCATENATE(IF($C$2<10,CONCATENATE(\"0\",$C$2),$C$2),\".\",\"045\"),3))<($C$3+1),CONCATENATE(DEC2HEX($C$2),\".\",\"045\"),\"\")))","v":""},"","",null,{"$f":"IFERROR(VLOOKUP(D50,Lists!C:D,2,FALSE),\"\")","v":""},{"$f":"IFERROR(VLOOKUP(D50,Lists!C:E,3,FALSE),\"\")","v":""}]
[{"$f":"_xlfn.IFS(C1=\"Decimal\",(IF(INT(RIGHT(CONCATENATE(IF($C$2<10,CONCATENATE(\"0\",$C$2),$C$2),\".\",\"046\"),3))<($C$3+1),CONCATENATE(IF($C$2<10,CONCATENATE(\"0\",$C$2),$C$2),\".\",\"046\"),\"\")),C1=\"Hex\",(IF(INT(RIGHT(CONCATENATE(IF($C$2<10,CONCATENATE(\"0\",$C$2),$C$2),\".\",\"046\"),3))<($C$3+1),CONCATENATE(DEC2HEX($C$2),\".\",\"046\"),\"\")))","v":""},"","",null,{"$f":"IFERROR(VLOOKUP(D51,Lists!C:D,2,FALSE),\"\")","v":""},{"$f":"IFERROR(VLOOKUP(D51,Lists!C:E,3,FALSE),\"\")","v":""}]
[{"$f":"_xlfn.IFS(C1=\"Decimal\",(IF(INT(RIGHT(CONCATENATE(IF($C$2<10,CONCATENATE(\"0\",$C$2),$C$2),\".\",\"047\"),3))<($C$3+1),CONCATENATE(IF($C$2<10,CONCATENATE(\"0\",$C$2),$C$2),\".\",\"047\"),\"\")),C1=\"Hex\",(IF(INT(RIGHT(CONCATENATE(IF($C$2<10,CONCATENATE(\"0\",$C$2),$C$2),\".\",\"047\"),3))<($C$3+1),CONCATENATE(DEC2HEX($C$2),\".\",\"047\"),\"\")))","v":""},"","",null,{"$f":"IFERROR(VLOOKUP(D52,Lists!C:D,2,FALSE),\"\")","v":""},{"$f":"IFERROR(VLOOKUP(D52,Lists!C:E,3,FALSE),\"\")","v":""}]
[{"$f":"_xlfn.IFS(C1=\"Decimal\",(IF(INT(RIGHT(CONCATENATE(IF($C$2<10,CONCATENATE(\"0\",$C$2),$C$2),\".\",\"048\"),3))<($C$3+1),CONCATENATE(IF($C$2<10,CONCATENATE(\"0\",$C$2),$C$2),\".\",\"048\"),\"\")),C1=\"Hex\",(IF(INT(RIGHT(CONCATENATE(IF($C$2<10,CONCATENATE(\"0\",$C$2),$C$2),\".\",\"048\"),3))<($C$3+1),CONCATENATE(DEC2HEX($C$2),\".\",\"048\"),\"\")))","v":""},"","",null,{"$f":"IFERROR(VLOOKUP(D53,Lists!C:D,2,FALSE),\"\")","v":""},{"$f":"IFERROR(VLOOKUP(D53,Lists!C:E,3,FALSE),\"\")","v":""}]
[{"$f":"_xlfn.IFS(C1=\"Decimal\",(IF(INT(RIGHT(CONCATENATE(IF($C$2<10,CONCATENATE(\"0\",$C$2),$C$2),\".\",\"049\"),3))<($C$3+1),CONCATENATE(IF($C$2<10,CONCATENATE(\"0\",$C$2),$C$2),\".\",\"049\"),\"\")),C1=\"Hex\",(IF(INT(RIGHT(CONCATENATE(IF($C$2<10,CONCATENATE(\"0\",$C$2),$C$2),\".\",\"049\"),3))<($C$3+1),CONCATENATE(DEC2HEX($C$2),\".\",\"049\"),\"\")))","v":""},"","",null,{"$f":"IFERROR(VLOOKUP(D54,Lists!C:D,2,FALSE),\"\")","v":""},{"$f":"IFERROR(VLOOKUP(D54,Lists!C:E,3,FALSE),\"\")","v":""}]
[{"$f":"_xlfn.IFS(C1=\"Decimal\",(IF(INT(RIGHT(CONCATENATE(IF($C$2<10,CONCATENATE(\"0\",$C$2),$C$2),\".\",\"050\"),3))<($C$3+1),CONCATENATE(IF($C$2<10,CONCATENATE(\"0\",$C$2),$C$2),\".\",\"050\"),\"\")),C1=\"Hex\",(IF(INT(RIGHT(CONCATENATE(IF($C$2<10,CONCATENATE(\"0\",$C$2),$C$2),\".\",\"050\"),3))<($C$3+1),CONCATENATE(DEC2HEX($C$2),\".\",\"050\"),\"\")))","v":""},"","",null,{"$f":"IFERROR(VLOOKUP(D55,Lists!C:D,2,FALSE),\"\")","v":""},{"$f":"IFERROR(VLOOKUP(D55,Lists!C:E,3,FALSE),\"\")","v":""}]
[{"$f":"_xlfn.IFS(C1=\"Decimal\",(IF(INT(RIGHT(CONCATENATE(IF($C$2<10,CONCATENATE(\"0\",$C$2),$C$2),\".\",\"051\"),3))<($C$3+1),CONCATENATE(IF($C$2<10,CONCATENATE(\"0\",$C$2),$C$2),\".\",\"051\"),\"\")),C1=\"Hex\",(IF(INT(RIGHT(CONCATENATE(IF($C$2<10,CONCATENATE(\"0\",$C$2),$C$2),\".\",\"051\"),3))<($C$3+1),CONCATENATE(DEC2HEX($C$2),\".\",\"051\"),\"\")))","v":""},"","",null,{"$f":"IFERROR(VLOOKUP(D56,Lists!C:D,2,FALSE),\"\")","v":""},{"$f":"IFERROR(VLOOKUP(D56,Lists!C:E,3,FALSE),\"\")","v":""}]
[{"$f":"_xlfn.IFS(C1=\"Decimal\",(IF(INT(RIGHT(CONCATENATE(IF($C$2<10,CONCATENATE(\"0\",$C$2),$C$2),\".\",\"052\"),3))<($C$3+1),CONCATENATE(IF($C$2<10,CONCATENATE(\"0\",$C$2),$C$2),\".\",\"052\"),\"\")),C1=\"Hex\",(IF(INT(RIGHT(CONCATENATE(IF($C$2<10,CONCATENATE(\"0\",$C$2),$C$2),\".\",\"052\"),3))<($C$3+1),CONCATENATE(DEC2HEX($C$2),\".\",\"052\"),\"\")))","v":""},"","",null,{"$f":"IFERROR(VLOOKUP(D57,Lists!C:D,2,FALSE),\"\")","v":""},{"$f":"IFERROR(VLOOKUP(D57,Lists!C:E,3,FALSE),\"\")","v":""}]
[{"$f":"_xlfn.IFS(C1=\"Decimal\",(IF(INT(RIGHT(CONCATENATE(IF($C$2<10,CONCATENATE(\"0\",$C$2),$C$2),\".\",\"053\"),3))<($C$3+1),CONCATENATE(IF($C$2<10,CONCATENATE(\"0\",$C$2),$C$2),\".\",\"053\"),\"\")),C1=\"Hex\",(IF(INT(RIGHT(CONCATENATE(IF($C$2<10,CONCATENATE(\"0\",$C$2),$C$2),\".\",\"053\"),3))<($C$3+1),CONCATENATE(DEC2HEX($C$2),\".\",\"053\"),\"\")))","v":""},"","",null,{"$f":"IFERROR(VLOOKUP(D58,Lists!C:D,2,FALSE),\"\")","v":""},{"$f":"IFERROR(VLOOKUP(D58,Lists!C:E,3,FALSE),\"\")","v":""}]
[{"$f":"_xlfn.IFS(C1=\"Decimal\",(IF(INT(RIGHT(CONCATENATE(IF($C$2<10,CONCATENATE(\"0\",$C$2),$C$2),\".\",\"054\"),3))<($C$3+1),CONCATENATE(IF($C$2<10,CONCATENATE(\"0\",$C$2),$C$2),\".\",\"054\"),\"\")),C1=\"Hex\",(IF(INT(RIGHT(CONCATENATE(IF($C$2<10,CONCATENATE(\"0\",$C$2),$C$2),\".\",\"054\"),3))<($C$3+1),CONCATENATE(DEC2HEX($C$2),\".\",\"054\"),\"\")))","v":""},"","",null,{"$f":"IFERROR(VLOOKUP(D59,Lists!C:D,2,FALSE),\"\")","v":""},{"$f":"IFERROR(VLOOKUP(D59,Lists!C:E,3,FALSE),\"\")","v":""}]
[{"$f":"_xlfn.IFS(C1=\"Decimal\",(IF(INT(RIGHT(CONCATENATE(IF($C$2<10,CONCATENATE(\"0\",$C$2),$C$2),\".\",\"055\"),3))<($C$3+1),CONCATENATE(IF($C$2<10,CONCATENATE(\"0\",$C$2),$C$2),\".\",\"055\"),\"\")),C1=\"Hex\",(IF(INT(RIGHT(CONCATENATE(IF($C$2<10,CONCATENATE(\"0\",$C$2),$C$2),\".\",\"055\"),3))<($C$3+1),CONCATENATE(DEC2HEX($C$2),\".\",\"055\"),\"\")))","v":""},"","",null,{"$f":"IFERROR(VLOOKUP(D60,Lists!C:D,2,FALSE),\"\")","v":""},{"$f":"IFERROR(VLOOKUP(D60,Lists!C:E,3,FALSE),\"\")","v":""}]
[{"$f":"_xlfn.IFS(C1=\"Decimal\",(IF(INT(RIGHT(CONCATENATE(IF($C$2<10,CONCATENATE(\"0\",$C$2),$C$2),\".\",\"056\"),3))<($C$3+1),CONCATENATE(IF($C$2<10,CONCATENATE(\"0\",$C$2),$C$2),\".\",\"056\"),\"\")),C1=\"Hex\",(IF(INT(RIGHT(CONCATENATE(IF($C$2<10,CONCATENATE(\"0\",$C$2),$C$2),\".\",\"056\"),3))<($C$3+1),CONCATENATE(DEC2HEX($C$2),\".\",\"056\"),\"\")))","v":""},"","",null,{"$f":"IFERROR(VLOOKUP(D61,Lists!C:D,2,FALSE),\"\")","v":""},{"$f":"IFERROR(VLOOKUP(D61,Lists!C:E,3,FALSE),\"\")","v":""}]
[{"$f":"_xlfn.IFS(C1=\"Decimal\",(IF(INT(RIGHT(CONCATENATE(IF($C$2<10,CONCATENATE(\"0\",$C$2),$C$2),\".\",\"057\"),3))<($C$3+1),CONCATENATE(IF($C$2<10,CONCATENATE(\"0\",$C$2),$C$2),\".\",\"057\"),\"\")),C1=\"Hex\",(IF(INT(RIGHT(CONCATENATE(IF($C$2<10,CONCATENATE(\"0\",$C$2),$C$2),\".\",\"057\"),3))<($C$3+1),CONCATENATE(DEC2HEX($C$2),\".\",\"057\"),\"\")))","v":""},"","",null,{"$f":"IFERROR(VLOOKUP(D62,Lists!C:D,2,FALSE),\"\")","v":""},{"$f":"IFERROR(VLOOKUP(D62,Lists!C:E,3,FALSE),\"\")","v":""}]
[{"$f":"_xlfn.IFS(C1=\"Decimal\",(IF(INT(RIGHT(CONCATENATE(IF($C$2<10,CONCATENATE(\"0\",$C$2),$C$2),\".\",\"058\"),3))<($C$3+1),CONCATENATE(IF($C$2<10,CONCATENATE(\"0\",$C$2),$C$2),\".\",\"058\"),\"\")),C1=\"Hex\",(IF(INT(RIGHT(CONCATENATE(IF($C$2<10,CONCATENATE(\"0\",$C$2),$C$2),\".\",\"058\"),3))<($C$3+1),CONCATENATE(DEC2HEX($C$2),\".\",\"058\"),\"\")))","v":""},"","",null,{"$f":"IFERROR(VLOOKUP(D63,Lists!C:D,2,FALSE),\"\")","v":""},{"$f":"IFERROR(VLOOKUP(D63,Lists!C:E,3,FALSE),\"\")","v":""}]
[{"$f":"_xlfn.IFS(C1=\"Decimal\",(IF(INT(RIGHT(CONCATENATE(IF($C$2<10,CONCATENATE(\"0\",$C$2),$C$2),\".\",\"059\"),3))<($C$3+1),CONCATENATE(IF($C$2<10,CONCATENATE(\"0\",$C$2),$C$2),\".\",\"059\"),\"\")),C1=\"Hex\",(IF(INT(RIGHT(CONCATENATE(IF($C$2<10,CONCATENATE(\"0\",$C$2),$C$2),\".\",\"059\"),3))<($C$3+1),CONCATENATE(DEC2HEX($C$2),\".\",\"059\"),\"\")))","v":""},"","",null,{"$f":"IFERROR(VLOOKUP(D64,Lists!C:D,2,FALSE),\"\")","v":""},{"$f":"IFERROR(VLOOKUP(D64,Lists!C:E,3,FALSE),\"\")","v":""}]
[{"$f":"_xlfn.IFS(C1=\"Decimal\",(IF(INT(RIGHT(CONCATENATE(IF($C$2<10,CONCATENATE(\"0\",$C$2),$C$2),\".\",\"060\"),3))<($C$3+1),CONCATENATE(IF($C$2<10,CONCATENATE(\"0\",$C$2),$C$2),\".\",\"060\"),\"\")),C1=\"Hex\",(IF(INT(RIGHT(CONCATENATE(IF($C$2<10,CONCATENATE(\"0\",$C$2),$C$2),\".\",\"060\"),3))<($C$3+1),CONCATENATE(DEC2HEX($C$2),\".\",\"060\"),\"\")))","v":""},"","",null,{"$f":"IFERROR(VLOOKUP(D65,Lists!C:D,2,FALSE),\"\")","v":""},{"$f":"IFERROR(VLOOKUP(D65,Lists!C:E,3,FALSE),\"\")","v":""}]
[{"$f":"_xlfn.IFS(C1=\"Decimal\",(IF(INT(RIGHT(CONCATENATE(IF($C$2<10,CONCATENATE(\"0\",$C$2),$C$2),\".\",\"061\"),3))<($C$3+1),CONCATENATE(IF($C$2<10,CONCATENATE(\"0\",$C$2),$C$2),\".\",\"061\"),\"\")),C1=\"Hex\",(IF(INT(RIGHT(CONCATENATE(IF($C$2<10,CONCATENATE(\"0\",$C$2),$C$2),\".\",\"061\"),3))<($C$3+1),CONCATENATE(DEC2HEX($C$2),\".\",\"061\"),\"\")))","v":""},"","",null,{"$f":"IFERROR(VLOOKUP(D66,Lists!C:D,2,FALSE),\"\")","v":""},{"$f":"IFERROR(VLOOKUP(D66,Lists!C:E,3,FALSE),\"\")","v":""}]
[{"$f":"_xlfn.IFS(C1=\"Decimal\",(IF(INT(RIGHT(CONCATENATE(IF($C$2<10,CONCATENATE(\"0\",$C$2),$C$2),\".\",\"062\"),3))<($C$3+1),CONCATENATE(IF($C$2<10,CONCATENATE(\"0\",$C$2),$C$2),\".\",\"062\"),\"\")),C1=\"Hex\",(IF(INT(RIGHT(CONCATENATE(IF($C$2<10,CONCATENATE(\"0\",$C$2),$C$2),\".\",\"062\"),3))<($C$3+1),CONCATENATE(DEC2HEX($C$2),\".\",\"062\"),\"\")))","v":""},"","",null,{"$f":"IFERROR(VLOOKUP(D67,Lists!C:D,2,FALSE),\"\")","v":""},{"$f":"IFERROR(VLOOKUP(D67,Lists!C:E,3,FALSE),\"\")","v":""}]
[{"$f":"_xlfn.IFS(C1=\"Decimal\",(IF(INT(RIGHT(CONCATENATE(IF($C$2<10,CONCATENATE(\"0\",$C$2),$C$2),\".\",\"063\"),3))<($C$3+1),CONCATENATE(IF($C$2<10,CONCATENATE(\"0\",$C$2),$C$2),\".\",\"063\"),\"\")),C1=\"Hex\",(IF(INT(RIGHT(CONCATENATE(IF($C$2<10,CONCATENATE(\"0\",$C$2),$C$2),\".\",\"063\"),3))<($C$3+1),CONCATENATE(DEC2HEX($C$2),\".\",\"063\"),\"\")))","v":""},"","",null,{"$f":"IFERROR(VLOOKUP(D68,Lists!C:D,2,FALSE),\"\")","v":""},{"$f":"IFERROR(VLOOKUP(D68,Lists!C:E,3,FALSE),\"\")","v":""}]
[{"$f":"_xlfn.IFS(C1=\"Decimal\",(IF(INT(RIGHT(CONCATENATE(IF($C$2<10,CONCATENATE(\"0\",$C$2),$C$2),\".\",\"064\"),3))<($C$3+1),CONCATENATE(IF($C$2<10,CONCATENATE(\"0\",$C$2),$C$2),\".\",\"064\"),\"\")),C1=\"Hex\",(IF(INT(RIGHT(CONCATENATE(IF($C$2<10,CONCATENATE(\"0\",$C$2),$C$2),\".\",\"064\"),3))<($C$3+1),CONCATENATE(DEC2HEX($C$2),\".\",\"064\"),\"\")))","v":""},"","",null,{"$f":"IFERROR(VLOOKUP(D69,Lists!C:D,2,FALSE),\"\")","v":""},{"$f":"IFERROR(VLOOKUP(D69,Lists!C:E,3,FALSE),\"\")","v":""}]
[{"$f":"_xlfn.IFS(C1=\"Decimal\",(IF(INT(RIGHT(CONCATENATE(IF($C$2<10,CONCATENATE(\"0\",$C$2),$C$2),\".\",\"065\"),3))<($C$3+1),CONCATENATE(IF($C$2<10,CONCATENATE(\"0\",$C$2),$C$2),\".\",\"065\"),\"\")),C1=\"Hex\",(IF(INT(RIGHT(CONCATENATE(IF($C$2<10,CONCATENATE(\"0\",$C$2),$C$2),\".\",\"065\"),3))<($C$3+1),CONCATENATE(DEC2HEX($C$2),\".\",\"065\"),\"\")))","v":""},"","",null,{"$f":"IFERROR(VLOOKUP(D70,Lists!C:D,2,FALSE),\"\")","v":""},{"$f":"IFERROR(VLOOKUP(D70,Lists!C:E,3,FALSE),\"\")","v":""}]
[{"$f":"_xlfn.IFS(C1=\"Decimal\",(IF(INT(RIGHT(CONCATENATE(IF($C$2<10,CONCATENATE(\"0\",$C$2),$C$2),\".\",\"066\"),3))<($C$3+1),CONCATENATE(IF($C$2<10,CONCATENATE(\"0\",$C$2),$C$2),\".\",\"066\"),\"\")),C1=\"Hex\",(IF(INT(RIGHT(CONCATENATE(IF($C$2<10,CONCATENATE(\"0\",$C$2),$C$2),\".\",\"066\"),3))<($C$3+1),CONCATENATE(DEC2HEX($C$2),\".\",\"066\"),\"\")))","v":""},"",{"$f":"IF(LEN(B71)=0,\"\",LEN(B71))","v":""},null,{"$f":"IFERROR(VLOOKUP(D71,Lists!C:D,2,FALSE),\"\")","v":""},{"$f":"IFERROR(VLOOKUP(D71,Lists!C:E,3,FALSE),\"\")","v":""}]
[{"$f":"_xlfn.IFS(C1=\"Decimal\",(IF(INT(RIGHT(CONCATENATE(IF($C$2<10,CONCATENATE(\"0\",$C$2),$C$2),\".\",\"067\"),3))<($C$3+1),CONCATENATE(IF($C$2<10,CONCATENATE(\"0\",$C$2),$C$2),\".\",\"067\"),\"\")),C1=\"Hex\",(IF(INT(RIGHT(CONCATENATE(IF($C$2<10,CONCATENATE(\"0\",$C$2),$C$2),\".\",\"067\"),3))<($C$3+1),CONCATENATE(DEC2HEX($C$2),\".\",\"067\"),\"\")))","v":""},"","",null,{"$f":"IFERROR(VLOOKUP(D72,Lists!C:D,2,FALSE),\"\")","v":""},{"$f":"IFERROR(VLOOKUP(D72,Lists!C:E,3,FALSE),\"\")","v":""}]
[{"$f":"_xlfn.IFS(C1=\"Decimal\",(IF(INT(RIGHT(CONCATENATE(IF($C$2<10,CONCATENATE(\"0\",$C$2),$C$2),\".\",\"068\"),3))<($C$3+1),CONCATENATE(IF($C$2<10,CONCATENATE(\"0\",$C$2),$C$2),\".\",\"068\"),\"\")),C1=\"Hex\",(IF(INT(RIGHT(CONCATENATE(IF($C$2<10,CONCATENATE(\"0\",$C$2),$C$2),\".\",\"068\"),3))<($C$3+1),CONCATENATE(DEC2HEX($C$2),\".\",\"068\"),\"\")))","v":""},"","",null,{"$f":"IFERROR(VLOOKUP(D73,Lists!C:D,2,FALSE),\"\")","v":""},{"$f":"IFERROR(VLOOKUP(D73,Lists!C:E,3,FALSE),\"\")","v":""}]
[{"$f":"_xlfn.IFS(C1=\"Decimal\",(IF(INT(RIGHT(CONCATENATE(IF($C$2<10,CONCATENATE(\"0\",$C$2),$C$2),\".\",\"069\"),3))<($C$3+1),CONCATENATE(IF($C$2<10,CONCATENATE(\"0\",$C$2),$C$2),\".\",\"069\"),\"\")),C1=\"Hex\",(IF(INT(RIGHT(CONCATENATE(IF($C$2<10,CONCATENATE(\"0\",$C$2),$C$2),\".\",\"069\"),3))<($C$3+1),CONCATENATE(DEC2HEX($C$2),\".\",\"069\"),\"\")))","v":""},"","",null,{"$f":"IFERROR(VLOOKUP(D74,Lists!C:D,2,FALSE),\"\")","v":""},{"$f":"IFERROR(VLOOKUP(D74,Lists!C:E,3,FALSE),\"\")","v":""}]
[{"$f":"_xlfn.IFS(C1=\"Decimal\",(IF(INT(RIGHT(CONCATENATE(IF($C$2<10,CONCATENATE(\"0\",$C$2),$C$2),\".\",\"070\"),3))<($C$3+1),CONCATENATE(IF($C$2<10,CONCATENATE(\"0\",$C$2),$C$2),\".\",\"070\"),\"\")),C1=\"Hex\",(IF(INT(RIGHT(CONCATENATE(IF($C$2<10,CONCATENATE(\"0\",$C$2),$C$2),\".\",\"070\"),3))<($C$3+1),CONCATENATE(DEC2HEX($C$2),\".\",\"070\"),\"\")))","v":""},"","",null,{"$f":"IFERROR(VLOOKUP(D75,Lists!C:D,2,FALSE),\"\")","v":""},{"$f":"IFERROR(VLOOKUP(D75,Lists!C:E,3,FALSE),\"\")","v":""}]
[{"$f":"_xlfn.IFS(C1=\"Decimal\",(IF(INT(RIGHT(CONCATENATE(IF($C$2<10,CONCATENATE(\"0\",$C$2),$C$2),\".\",\"071\"),3))<($C$3+1),CONCATENATE(IF($C$2<10,CONCATENATE(\"0\",$C$2),$C$2),\".\",\"071\"),\"\")),C1=\"Hex\",(IF(INT(RIGHT(CONCATENATE(IF($C$2<10,CONCATENATE(\"0\",$C$2),$C$2),\".\",\"071\"),3))<($C$3+1),CONCATENATE(DEC2HEX($C$2),\".\",\"071\"),\"\")))","v":""},"","",null,{"$f":"IFERROR(VLOOKUP(D76,Lists!C:D,2,FALSE),\"\")","v":""},{"$f":"IFERROR(VLOOKUP(D76,Lists!C:E,3,FALSE),\"\")","v":""}]
[{"$f":"_xlfn.IFS(C1=\"Decimal\",(IF(INT(RIGHT(CONCATENATE(IF($C$2<10,CONCATENATE(\"0\",$C$2),$C$2),\".\",\"072\"),3))<($C$3+1),CONCATENATE(IF($C$2<10,CONCATENATE(\"0\",$C$2),$C$2),\".\",\"072\"),\"\")),C1=\"Hex\",(IF(INT(RIGHT(CONCATENATE(IF($C$2<10,CONCATENATE(\"0\",$C$2),$C$2),\".\",\"072\"),3))<($C$3+1),CONCATENATE(DEC2HEX($C$2),\".\",\"072\"),\"\")))","v":""},"","",null,{"$f":"IFERROR(VLOOKUP(D77,Lists!C:D,2,FALSE),\"\")","v":""},{"$f":"IFERROR(VLOOKUP(D77,Lists!C:E,3,FALSE),\"\")","v":""}]
[{"$f":"_xlfn.IFS(C1=\"Decimal\",(IF(INT(RIGHT(CONCATENATE(IF($C$2<10,CONCATENATE(\"0\",$C$2),$C$2),\".\",\"073\"),3))<($C$3+1),CONCATENATE(IF($C$2<10,CONCATENATE(\"0\",$C$2),$C$2),\".\",\"073\"),\"\")),C1=\"Hex\",(IF(INT(RIGHT(CONCATENATE(IF($C$2<10,CONCATENATE(\"0\",$C$2),$C$2),\".\",\"073\"),3))<($C$3+1),CONCATENATE(DEC2HEX($C$2),\".\",\"073\"),\"\")))","v":""},"","",null,{"$f":"IFERROR(VLOOKUP(D78,Lists!C:D,2,FALSE),\"\")","v":""},{"$f":"IFERROR(VLOOKUP(D78,Lists!C:E,3,FALSE),\"\")","v":""}]
[{"$f":"_xlfn.IFS(C1=\"Decimal\",(IF(INT(RIGHT(CONCATENATE(IF($C$2<10,CONCATENATE(\"0\",$C$2),$C$2),\".\",\"074\"),3))<($C$3+1),CONCATENATE(IF($C$2<10,CONCATENATE(\"0\",$C$2),$C$2),\".\",\"074\"),\"\")),C1=\"Hex\",(IF(INT(RIGHT(CONCATENATE(IF($C$2<10,CONCATENATE(\"0\",$C$2),$C$2),\".\",\"074\"),3))<($C$3+1),CONCATENATE(DEC2HEX($C$2),\".\",\"074\"),\"\")))","v":""},"","",null,{"$f":"IFERROR(VLOOKUP(D79,Lists!C:D,2,FALSE),\"\")","v":""},{"$f":"IFERROR(VLOOKUP(D79,Lists!C:E,3,FALSE),\"\")","v":""}]
[{"$f":"_xlfn.IFS(C1=\"Decimal\",(IF(INT(RIGHT(CONCATENATE(IF($C$2<10,CONCATENATE(\"0\",$C$2),$C$2),\".\",\"075\"),3))<($C$3+1),CONCATENATE(IF($C$2<10,CONCATENATE(\"0\",$C$2),$C$2),\".\",\"075\"),\"\")),C1=\"Hex\",(IF(INT(RIGHT(CONCATENATE(IF($C$2<10,CONCATENATE(\"0\",$C$2),$C$2),\".\",\"075\"),3))<($C$3+1),CONCATENATE(DEC2HEX($C$2),\".\",\"075\"),\"\")))","v":""},"","",null,{"$f":"IFERROR(VLOOKUP(D80,Lists!C:D,2,FALSE),\"\")","v":""},{"$f":"IFERROR(VLOOKUP(D80,Lists!C:E,3,FALSE),\"\")","v":""}]
[{"$f":"_xlfn.IFS(C1=\"Decimal\",(IF(INT(RIGHT(CONCATENATE(IF($C$2<10,CONCATENATE(\"0\",$C$2),$C$2),\".\",\"076\"),3))<($C$3+1),CONCATENATE(IF($C$2<10,CONCATENATE(\"0\",$C$2),$C$2),\".\",\"076\"),\"\")),C1=\"Hex\",(IF(INT(RIGHT(CONCATENATE(IF($C$2<10,CONCATENATE(\"0\",$C$2),$C$2),\".\",\"076\"),3))<($C$3+1),CONCATENATE(DEC2HEX($C$2),\".\",\"076\"),\"\")))","v":""},"","",null,{"$f":"IFERROR(VLOOKUP(D81,Lists!C:D,2,FALSE),\"\")","v":""},{"$f":"IFERROR(VLOOKUP(D81,Lists!C:E,3,FALSE),\"\")","v":""}]
[{"$f":"_xlfn.IFS(C1=\"Decimal\",(IF(INT(RIGHT(CONCATENATE(IF($C$2<10,CONCATENATE(\"0\",$C$2),$C$2),\".\",\"077\"),3))<($C$3+1),CONCATENATE(IF($C$2<10,CONCATENATE(\"0\",$C$2),$C$2),\".\",\"077\"),\"\")),C1=\"Hex\",(IF(INT(RIGHT(CONCATENATE(IF($C$2<10,CONCATENATE(\"0\",$C$2),$C$2),\".\",\"077\"),3))<($C$3+1),CONCATENATE(DEC2HEX($C$2),\".\",\"077\"),\"\")))","v":""},"","",null,{"$f":"IFERROR(VLOOKUP(D82,Lists!C:D,2,FALSE),\"\")","v":""},{"$f":"IFERROR(VLOOKUP(D82,Lists!C:E,3,FALSE),\"\")","v":""}]
[{"$f":"_xlfn.IFS(C1=\"Decimal\",(IF(INT(RIGHT(CONCATENATE(IF($C$2<10,CONCATENATE(\"0\",$C$2),$C$2),\".\",\"078\"),3))<($C$3+1),CONCATENATE(IF($C$2<10,CONCATENATE(\"0\",$C$2),$C$2),\".\",\"078\"),\"\")),C1=\"Hex\",(IF(INT(RIGHT(CONCATENATE(IF($C$2<10,CONCATENATE(\"0\",$C$2),$C$2),\".\",\"078\"),3))<($C$3+1),CONCATENATE(DEC2HEX($C$2),\".\",\"078\"),\"\")))","v":""},"","",null,{"$f":"IFERROR(VLOOKUP(D83,Lists!C:D,2,FALSE),\"\")","v":""},{"$f":"IFERROR(VLOOKUP(D83,Lists!C:E,3,FALSE),\"\")","v":""}]
[{"$f":"_xlfn.IFS(C1=\"Decimal\",(IF(INT(RIGHT(CONCATENATE(IF($C$2<10,CONCATENATE(\"0\",$C$2),$C$2),\".\",\"079\"),3))<($C$3+1),CONCATENATE(IF($C$2<10,CONCATENATE(\"0\",$C$2),$C$2),\".\",\"079\"),\"\")),C1=\"Hex\",(IF(INT(RIGHT(CONCATENATE(IF($C$2<10,CONCATENATE(\"0\",$C$2),$C$2),\".\",\"079\"),3))<($C$3+1),CONCATENATE(DEC2HEX($C$2),\".\",\"079\"),\"\")))","v":""},"","",null,{"$f":"IFERROR(VLOOKUP(D84,Lists!C:D,2,FALSE),\"\")","v":""},{"$f":"IFERROR(VLOOKUP(D84,Lists!C:E,3,FALSE),\"\")","v":""}]
[{"$f":"_xlfn.IFS(C1=\"Decimal\",(IF(INT(RIGHT(CONCATENATE(IF($C$2<10,CONCATENATE(\"0\",$C$2),$C$2),\".\",\"080\"),3))<($C$3+1),CONCATENATE(IF($C$2<10,CONCATENATE(\"0\",$C$2),$C$2),\".\",\"080\"),\"\")),C1=\"Hex\",(IF(INT(RIGHT(CONCATENATE(IF($C$2<10,CONCATENATE(\"0\",$C$2),$C$2),\".\",\"080\"),3))<($C$3+1),CONCATENATE(DEC2HEX($C$2),\".\",\"080\"),\"\")))","v":""},"","",null,{"$f":"IFERROR(VLOOKUP(D85,Lists!C:D,2,FALSE),\"\")","v":""},{"$f":"IFERROR(VLOOKUP(D85,Lists!C:E,3,FALSE),\"\")","v":""}]
[{"$f":"_xlfn.IFS(C1=\"Decimal\",(IF(INT(RIGHT(CONCATENATE(IF($C$2<10,CONCATENATE(\"0\",$C$2),$C$2),\".\",\"081\"),3))<($C$3+1),CONCATENATE(IF($C$2<10,CONCATENATE(\"0\",$C$2),$C$2),\".\",\"081\"),\"\")),C1=\"Hex\",(IF(INT(RIGHT(CONCATENATE(IF($C$2<10,CONCATENATE(\"0\",$C$2),$C$2),\".\",\"081\"),3))<($C$3+1),CONCATENATE(DEC2HEX($C$2),\".\",\"081\"),\"\")))","v":""},"","",null,{"$f":"IFERROR(VLOOKUP(D86,Lists!C:D,2,FALSE),\"\")","v":""},{"$f":"IFERROR(VLOOKUP(D86,Lists!C:E,3,FALSE),\"\")","v":""}]
[{"$f":"_xlfn.IFS(C1=\"Decimal\",(IF(INT(RIGHT(CONCATENATE(IF($C$2<10,CONCATENATE(\"0\",$C$2),$C$2),\".\",\"082\"),3))<($C$3+1),CONCATENATE(IF($C$2<10,CONCATENATE(\"0\",$C$2),$C$2),\".\",\"082\"),\"\")),C1=\"Hex\",(IF(INT(RIGHT(CONCATENATE(IF($C$2<10,CONCATENATE(\"0\",$C$2),$C$2),\".\",\"082\"),3))<($C$3+1),CONCATENATE(DEC2HEX($C$2),\".\",\"082\"),\"\")))","v":""},"","",null,{"$f":"IFERROR(VLOOKUP(D87,Lists!C:D,2,FALSE),\"\")","v":""},{"$f":"IFERROR(VLOOKUP(D87,Lists!C:E,3,FALSE),\"\")","v":""}]
[{"$f":"_xlfn.IFS(C1=\"Decimal\",(IF(INT(RIGHT(CONCATENATE(IF($C$2<10,CONCATENATE(\"0\",$C$2),$C$2),\".\",\"083\"),3))<($C$3+1),CONCATENATE(IF($C$2<10,CONCATENATE(\"0\",$C$2),$C$2),\".\",\"083\"),\"\")),C1=\"Hex\",(IF(INT(RIGHT(CONCATENATE(IF($C$2<10,CONCATENATE(\"0\",$C$2),$C$2),\".\",\"083\"),3))<($C$3+1),CONCATENATE(DEC2HEX($C$2),\".\",\"083\"),\"\")))","v":""},"","",null,{"$f":"IFERROR(VLOOKUP(D88,Lists!C:D,2,FALSE),\"\")","v":""},{"$f":"IFERROR(VLOOKUP(D88,Lists!C:E,3,FALSE),\"\")","v":""}]
[{"$f":"_xlfn.IFS(C1=\"Decimal\",(IF(INT(RIGHT(CONCATENATE(IF($C$2<10,CONCATENATE(\"0\",$C$2),$C$2),\".\",\"084\"),3))<($C$3+1),CONCATENATE(IF($C$2<10,CONCATENATE(\"0\",$C$2),$C$2),\".\",\"084\"),\"\")),C1=\"Hex\",(IF(INT(RIGHT(CONCATENATE(IF($C$2<10,CONCATENATE(\"0\",$C$2),$C$2),\".\",\"084\"),3))<($C$3+1),CONCATENATE(DEC2HEX($C$2),\".\",\"084\"),\"\")))","v":""},"","",null,{"$f":"IFERROR(VLOOKUP(D89,Lists!C:D,2,FALSE),\"\")","v":""},{"$f":"IFERROR(VLOOKUP(D89,Lists!C:E,3,FALSE),\"\")","v":""}]
[{"$f":"_xlfn.IFS(C1=\"Decimal\",(IF(INT(RIGHT(CONCATENATE(IF($C$2<10,CONCATENATE(\"0\",$C$2),$C$2),\".\",\"085\"),3))<($C$3+1),CONCATENATE(IF($C$2<10,CONCATENATE(\"0\",$C$2),$C$2),\".\",\"085\"),\"\")),C1=\"Hex\",(IF(INT(RIGHT(CONCATENATE(IF($C$2<10,CONCATENATE(\"0\",$C$2),$C$2),\".\",\"085\"),3))<($C$3+1),CONCATENATE(DEC2HEX($C$2),\".\",\"085\"),\"\")))","v":""},"","",null,{"$f":"IFERROR(VLOOKUP(D90,Lists!C:D,2,FALSE),\"\")","v":""},{"$f":"IFERROR(VLOOKUP(D90,Lists!C:E,3,FALSE),\"\")","v":""}]
[{"$f":"_xlfn.IFS(C1=\"Decimal\",(IF(INT(RIGHT(CONCATENATE(IF($C$2<10,CONCATENATE(\"0\",$C$2),$C$2),\".\",\"086\"),3))<($C$3+1),CONCATENATE(IF($C$2<10,CONCATENATE(\"0\",$C$2),$C$2),\".\",\"086\"),\"\")),C1=\"Hex\",(IF(INT(RIGHT(CONCATENATE(IF($C$2<10,CONCATENATE(\"0\",$C$2),$C$2),\".\",\"086\"),3))<($C$3+1),CONCATENATE(DEC2HEX($C$2),\".\",\"086\"),\"\")))","v":""},"","",null,{"$f":"IFERROR(VLOOKUP(D91,Lists!C:D,2,FALSE),\"\")","v":""},{"$f":"IFERROR(VLOOKUP(D91,Lists!C:E,3,FALSE),\"\")","v":""}]
[{"$f":"_xlfn.IFS(C1=\"Decimal\",(IF(INT(RIGHT(CONCATENATE(IF($C$2<10,CONCATENATE(\"0\",$C$2),$C$2),\".\",\"087\"),3))<($C$3+1),CONCATENATE(IF($C$2<10,CONCATENATE(\"0\",$C$2),$C$2),\".\",\"087\"),\"\")),C1=\"Hex\",(IF(INT(RIGHT(CONCATENATE(IF($C$2<10,CONCATENATE(\"0\",$C$2),$C$2),\".\",\"087\"),3))<($C$3+1),CONCATENATE(DEC2HEX($C$2),\".\",\"087\"),\"\")))","v":""},"","",null,{"$f":"IFERROR(VLOOKUP(D92,Lists!C:D,2,FALSE),\"\")","v":""},{"$f":"IFERROR(VLOOKUP(D92,Lists!C:E,3,FALSE),\"\")","v":""}]
[{"$f":"_xlfn.IFS(C1=\"Decimal\",(IF(INT(RIGHT(CONCATENATE(IF($C$2<10,CONCATENATE(\"0\",$C$2),$C$2),\".\",\"088\"),3))<($C$3+1),CONCATENATE(IF($C$2<10,CONCATENATE(\"0\",$C$2),$C$2),\".\",\"088\"),\"\")),C1=\"Hex\",(IF(INT(RIGHT(CONCATENATE(IF($C$2<10,CONCATENATE(\"0\",$C$2),$C$2),\".\",\"088\"),3))<($C$3+1),CONCATENATE(DEC2HEX($C$2),\".\",\"088\"),\"\")))","v":""},"","",null,{"$f":"IFERROR(VLOOKUP(D93,Lists!C:D,2,FALSE),\"\")","v":""},{"$f":"IFERROR(VLOOKUP(D93,Lists!C:E,3,FALSE),\"\")","v":""}]
[{"$f":"_xlfn.IFS(C1=\"Decimal\",(IF(INT(RIGHT(CONCATENATE(IF($C$2<10,CONCATENATE(\"0\",$C$2),$C$2),\".\",\"089\"),3))<($C$3+1),CONCATENATE(IF($C$2<10,CONCATENATE(\"0\",$C$2),$C$2),\".\",\"089\"),\"\")),C1=\"Hex\",(IF(INT(RIGHT(CONCATENATE(IF($C$2<10,CONCATENATE(\"0\",$C$2),$C$2),\".\",\"089\"),3))<($C$3+1),CONCATENATE(DEC2HEX($C$2),\".\",\"089\"),\"\")))","v":""},"","",null,{"$f":"IFERROR(VLOOKUP(D94,Lists!C:D,2,FALSE),\"\")","v":""},{"$f":"IFERROR(VLOOKUP(D94,Lists!C:E,3,FALSE),\"\")","v":""}]
[{"$f":"_xlfn.IFS(C1=\"Decimal\",(IF(INT(RIGHT(CONCATENATE(IF($C$2<10,CONCATENATE(\"0\",$C$2),$C$2),\".\",\"090\"),3))<($C$3+1),CONCATENATE(IF($C$2<10,CONCATENATE(\"0\",$C$2),$C$2),\".\",\"090\"),\"\")),C1=\"Hex\",(IF(INT(RIGHT(CONCATENATE(IF($C$2<10,CONCATENATE(\"0\",$C$2),$C$2),\".\",\"090\"),3))<($C$3+1),CONCATENATE(DEC2HEX($C$2),\".\",\"090\"),\"\")))","v":""},"","",null,{"$f":"IFERROR(VLOOKUP(D95,Lists!C:D,2,FALSE),\"\")","v":""},{"$f":"IFERROR(VLOOKUP(D95,Lists!C:E,3,FALSE),\"\")","v":""}]
[{"$f":"_xlfn.IFS(C1=\"Decimal\",(IF(INT(RIGHT(CONCATENATE(IF($C$2<10,CONCATENATE(\"0\",$C$2),$C$2),\".\",\"091\"),3))<($C$3+1),CONCATENATE(IF($C$2<10,CONCATENATE(\"0\",$C$2),$C$2),\".\",\"091\"),\"\")),C1=\"Hex\",(IF(INT(RIGHT(CONCATENATE(IF($C$2<10,CONCATENATE(\"0\",$C$2),$C$2),\".\",\"091\"),3))<($C$3+1),CONCATENATE(DEC2HEX($C$2),\".\",\"091\"),\"\")))","v":""},"","",null,{"$f":"IFERROR(VLOOKUP(D96,Lists!C:D,2,FALSE),\"\")","v":""},{"$f":"IFERROR(VLOOKUP(D96,Lists!C:E,3,FALSE),\"\")","v":""}]
[{"$f":"_xlfn.IFS(C1=\"Decimal\",(IF(INT(RIGHT(CONCATENATE(IF($C$2<10,CONCATENATE(\"0\",$C$2),$C$2),\".\",\"092\"),3))<($C$3+1),CONCATENATE(IF($C$2<10,CONCATENATE(\"0\",$C$2),$C$2),\".\",\"092\"),\"\")),C1=\"Hex\",(IF(INT(RIGHT(CONCATENATE(IF($C$2<10,CONCATENATE(\"0\",$C$2),$C$2),\".\",\"092\"),3))<($C$3+1),CONCATENATE(DEC2HEX($C$2),\".\",\"092\"),\"\")))","v":""},"","",null,{"$f":"IFERROR(VLOOKUP(D97,Lists!C:D,2,FALSE),\"\")","v":""},{"$f":"IFERROR(VLOOKUP(D97,Lists!C:E,3,FALSE),\"\")","v":""}]
[{"$f":"_xlfn.IFS(C1=\"Decimal\",(IF(INT(RIGHT(CONCATENATE(IF($C$2<10,CONCATENATE(\"0\",$C$2),$C$2),\".\",\"093\"),3))<($C$3+1),CONCATENATE(IF($C$2<10,CONCATENATE(\"0\",$C$2),$C$2),\".\",\"093\"),\"\")),C1=\"Hex\",(IF(INT(RIGHT(CONCATENATE(IF($C$2<10,CONCATENATE(\"0\",$C$2),$C$2),\".\",\"093\"),3))<($C$3+1),CONCATENATE(DEC2HEX($C$2),\".\",\"093\"),\"\")))","v":""},"","",null,{"$f":"IFERROR(VLOOKUP(D98,Lists!C:D,2,FALSE),\"\")","v":""},{"$f":"IFERROR(VLOOKUP(D98,Lists!C:E,3,FALSE),\"\")","v":""}]
[{"$f":"_xlfn.IFS(C1=\"Decimal\",(IF(INT(RIGHT(CONCATENATE(IF($C$2<10,CONCATENATE(\"0\",$C$2),$C$2),\".\",\"094\"),3))<($C$3+1),CONCATENATE(IF($C$2<10,CONCATENATE(\"0\",$C$2),$C$2),\".\",\"094\"),\"\")),C1=\"Hex\",(IF(INT(RIGHT(CONCATENATE(IF($C$2<10,CONCATENATE(\"0\",$C$2),$C$2),\".\",\"094\"),3))<($C$3+1),CONCATENATE(DEC2HEX($C$2),\".\",\"094\"),\"\")))","v":""},"","",null,{"$f":"IFERROR(VLOOKUP(D99,Lists!C:D,2,FALSE),\"\")","v":""},{"$f":"IFERROR(VLOOKUP(D99,Lists!C:E,3,FALSE),\"\")","v":""}]
[{"$f":"_xlfn.IFS(C1=\"Decimal\",(IF(INT(RIGHT(CONCATENATE(IF($C$2<10,CONCATENATE(\"0\",$C$2),$C$2),\".\",\"095\"),3))<($C$3+1),CONCATENATE(IF($C$2<10,CONCATENATE(\"0\",$C$2),$C$2),\".\",\"095\"),\"\")),C1=\"Hex\",(IF(INT(RIGHT(CONCATENATE(IF($C$2<10,CONCATENATE(\"0\",$C$2),$C$2),\".\",\"095\"),3))<($C$3+1),CONCATENATE(DEC2HEX($C$2),\".\",\"095\"),\"\")))","v":""},"","",null,{"$f":"IFERROR(VLOOKUP(D100,Lists!C:D,2,FALSE),\"\")","v":""},{"$f":"IFERROR(VLOOKUP(D100,Lists!C:E,3,FALSE),\"\")","v":""}]
[{"$f":"_xlfn.IFS(C1=\"Decimal\",(IF(INT(RIGHT(CONCATENATE(IF($C$2<10,CONCATENATE(\"0\",$C$2),$C$2),\".\",\"096\"),3))<($C$3+1),CONCATENATE(IF($C$2<10,CONCATENATE(\"0\",$C$2),$C$2),\".\",\"096\"),\"\")),C1=\"Hex\",(IF(INT(RIGHT(CONCATENATE(IF($C$2<10,CONCATENATE(\"0\",$C$2),$C$2),\".\",\"096\"),3))<($C$3+1),CONCATENATE(DEC2HEX($C$2),\".\",\"096\"),\"\")))","v":""},"","",null,{"$f":"IFERROR(VLOOKUP(D101,Lists!C:D,2,FALSE),\"\")","v":""},{"$f":"IFERROR(VLOOKUP(D101,Lists!C:E,3,FALSE),\"\")","v":""}]
[{"$f":"_xlfn.IFS(C1=\"Decimal\",(IF(INT(RIGHT(CONCATENATE(IF($C$2<10,CONCATENATE(\"0\",$C$2),$C$2),\".\",\"097\"),3))<($C$3+1),CONCATENATE(IF($C$2<10,CONCATENATE(\"0\",$C$2),$C$2),\".\",\"097\"),\"\")),C1=\"Hex\",(IF(INT(RIGHT(CONCATENATE(IF($C$2<10,CONCATENATE(\"0\",$C$2),$C$2),\".\",\"097\"),3))<($C$3+1),CONCATENATE(DEC2HEX($C$2),\".\",\"097\"),\"\")))","v":""},"","",null,{"$f":"IFERROR(VLOOKUP(D102,Lists!C:D,2,FALSE),\"\")","v":""},{"$f":"IFERROR(VLOOKUP(D102,Lists!C:E,3,FALSE),\"\")","v":""}]
[{"$f":"_xlfn.IFS(C1=\"Decimal\",(IF(INT(RIGHT(CONCATENATE(IF($C$2<10,CONCATENATE(\"0\",$C$2),$C$2),\".\",\"098\"),3))<($C$3+1),CONCATENATE(IF($C$2<10,CONCATENATE(\"0\",$C$2),$C$2),\".\",\"098\"),\"\")),C1=\"Hex\",(IF(INT(RIGHT(CONCATENATE(IF($C$2<10,CONCATENATE(\"0\",$C$2),$C$2),\".\",\"098\"),3))<($C$3+1),CONCATENATE(DEC2HEX($C$2),\".\",\"098\"),\"\")))","v":""},"","",null,{"$f":"IFERROR(VLOOKUP(D103,Lists!C:D,2,FALSE),\"\")","v":""},{"$f":"IFERROR(VLOOKUP(D103,Lists!C:E,3,FALSE),\"\")","v":""}]
[{"$f":"_xlfn.IFS(C1=\"Decimal\",(IF(INT(RIGHT(CONCATENATE(IF($C$2<10,CONCATENATE(\"0\",$C$2),$C$2),\".\",\"099\"),3))<($C$3+1),CONCATENATE(IF($C$2<10,CONCATENATE(\"0\",$C$2),$C$2),\".\",\"099\"),\"\")),C1=\"Hex\",(IF(INT(RIGHT(CONCATENATE(IF($C$2<10,CONCATENATE(\"0\",$C$2),$C$2),\".\",\"099\"),3))<($C$3+1),CONCATENATE(DEC2HEX($C$2),\".\",\"099\"),\"\")))","v":""},"","",null,{"$f":"IFERROR(VLOOKUP(D104,Lists!C:D,2,FALSE),\"\")","v":""},{"$f":"IFERROR(VLOOKUP(D104,Lists!C:E,3,FALSE),\"\")","v":""}]
[{"$f":"_xlfn.IFS(C1=\"Decimal\",(IF(INT(RIGHT(CONCATENATE(IF($C$2<10,CONCATENATE(\"0\",$C$2),$C$2),\".\",\"100\"),3))<($C$3+1),CONCATENATE(IF($C$2<10,CONCATENATE(\"0\",$C$2),$C$2),\".\",\"100\"),\"\")),C1=\"Hex\",(IF(INT(RIGHT(CONCATENATE(IF($C$2<10,CONCATENATE(\"0\",$C$2),$C$2),\".\",\"100\"),3))<($C$3+1),CONCATENATE(DEC2HEX($C$2),\".\",\"100\"),\"\")))","v":""},"","",null,{"$f":"IFERROR(VLOOKUP(D105,Lists!C:D,2,FALSE),\"\")","v":""},{"$f":"IFERROR(VLOOKUP(D105,Lists!C:E,3,FALSE),\"\")","v":""}]
[{"$f":"_xlfn.IFS(C1=\"Decimal\",(IF(INT(RIGHT(CONCATENATE(IF($C$2<10,CONCATENATE(\"0\",$C$2),$C$2),\".\",\"101\"),3))<($C$3+1),CONCATENATE(IF($C$2<10,CONCATENATE(\"0\",$C$2),$C$2),\".\",\"101\"),\"\")),C1=\"Hex\",(IF(INT(RIGHT(CONCATENATE(IF($C$2<10,CONCATENATE(\"0\",$C$2),$C$2),\".\",\"101\"),3))<($C$3+1),CONCATENATE(DEC2HEX($C$2),\".\",\"101\"),\"\")))","v":""},"","",null,{"$f":"IFERROR(VLOOKUP(D106,Lists!C:D,2,FALSE),\"\")","v":""},{"$f":"IFERROR(VLOOKUP(D106,Lists!C:E,3,FALSE),\"\")","v":""}]
[{"$f":"_xlfn.IFS(C1=\"Decimal\",(IF(INT(RIGHT(CONCATENATE(IF($C$2<10,CONCATENATE(\"0\",$C$2),$C$2),\".\",\"102\"),3))<($C$3+1),CONCATENATE(IF($C$2<10,CONCATENATE(\"0\",$C$2),$C$2),\".\",\"102\"),\"\")),C1=\"Hex\",(IF(INT(RIGHT(CONCATENATE(IF($C$2<10,CONCATENATE(\"0\",$C$2),$C$2),\".\",\"102\"),3))<($C$3+1),CONCATENATE(DEC2HEX($C$2),\".\",\"102\"),\"\")))","v":""},"","",null,{"$f":"IFERROR(VLOOKUP(D107,Lists!C:D,2,FALSE),\"\")","v":""},{"$f":"IFERROR(VLOOKUP(D107,Lists!C:E,3,FALSE),\"\")","v":""}]
[{"$f":"_xlfn.IFS(C1=\"Decimal\",(IF(INT(RIGHT(CONCATENATE(IF($C$2<10,CONCATENATE(\"0\",$C$2),$C$2),\".\",\"103\"),3))<($C$3+1),CONCATENATE(IF($C$2<10,CONCATENATE(\"0\",$C$2),$C$2),\".\",\"103\"),\"\")),C1=\"Hex\",(IF(INT(RIGHT(CONCATENATE(IF($C$2<10,CONCATENATE(\"0\",$C$2),$C$2),\".\",\"103\"),3))<($C$3+1),CONCATENATE(DEC2HEX($C$2),\".\",\"103\"),\"\")))","v":""},"","",null,{"$f":"IFERROR(VLOOKUP(D108,Lists!C:D,2,FALSE),\"\")","v":""},{"$f":"IFERROR(VLOOKUP(D108,Lists!C:E,3,FALSE),\"\")","v":""}]
[{"$f":"_xlfn.IFS(C1=\"Decimal\",(IF(INT(RIGHT(CONCATENATE(IF($C$2<10,CONCATENATE(\"0\",$C$2),$C$2),\".\",\"104\"),3))<($C$3+1),CONCATENATE(IF($C$2<10,CONCATENATE(\"0\",$C$2),$C$2),\".\",\"104\"),\"\")),C1=\"Hex\",(IF(INT(RIGHT(CONCATENATE(IF($C$2<10,CONCATENATE(\"0\",$C$2),$C$2),\".\",\"104\"),3))<($C$3+1),CONCATENATE(DEC2HEX($C$2),\".\",\"104\"),\"\")))","v":""},"","",null,{"$f":"IFERROR(VLOOKUP(D109,Lists!C:D,2,FALSE),\"\")","v":""},{"$f":"IFERROR(VLOOKUP(D109,Lists!C:E,3,FALSE),\"\")","v":""}]
[{"$f":"_xlfn.IFS(C1=\"Decimal\",(IF(INT(RIGHT(CONCATENATE(IF($C$2<10,CONCATENATE(\"0\",$C$2),$C$2),\".\",\"105\"),3))<($C$3+1),CONCATENATE(IF($C$2<10,CONCATENATE(\"0\",$C$2),$C$2),\".\",\"105\"),\"\")),C1=\"Hex\",(IF(INT(RIGHT(CONCATENATE(IF($C$2<10,CONCATENATE(\"0\",$C$2),$C$2),\".\",\"105\"),3))<($C$3+1),CONCATENATE(DEC2HEX($C$2),\".\",\"105\"),\"\")))","v":""},"","",null,{"$f":"IFERROR(VLOOKUP(D110,Lists!C:D,2,FALSE),\"\")","v":""},{"$f":"IFERROR(VLOOKUP(D110,Lists!C:E,3,FALSE),\"\")","v":""}]
[{"$f":"_xlfn.IFS(C1=\"Decimal\",(IF(INT(RIGHT(CONCATENATE(IF($C$2<10,CONCATENATE(\"0\",$C$2),$C$2),\".\",\"106\"),3))<($C$3+1),CONCATENATE(IF($C$2<10,CONCATENATE(\"0\",$C$2),$C$2),\".\",\"106\"),\"\")),C1=\"Hex\",(IF(INT(RIGHT(CONCATENATE(IF($C$2<10,CONCATENATE(\"0\",$C$2),$C$2),\".\",\"106\"),3))<($C$3+1),CONCATENATE(DEC2HEX($C$2),\".\",\"106\"),\"\")))","v":""},"","",null,{"$f":"IFERROR(VLOOKUP(D111,Lists!C:D,2,FALSE),\"\")","v":""},{"$f":"IFERROR(VLOOKUP(D111,Lists!C:E,3,FALSE),\"\")","v":""}]
[{"$f":"_xlfn.IFS(C1=\"Decimal\",(IF(INT(RIGHT(CONCATENATE(IF($C$2<10,CONCATENATE(\"0\",$C$2),$C$2),\".\",\"107\"),3))<($C$3+1),CONCATENATE(IF($C$2<10,CONCATENATE(\"0\",$C$2),$C$2),\".\",\"107\"),\"\")),C1=\"Hex\",(IF(INT(RIGHT(CONCATENATE(IF($C$2<10,CONCATENATE(\"0\",$C$2),$C$2),\".\",\"107\"),3))<($C$3+1),CONCATENATE(DEC2HEX($C$2),\".\",\"107\"),\"\")))","v":""},"","",null,{"$f":"IFERROR(VLOOKUP(D112,Lists!C:D,2,FALSE),\"\")","v":""},{"$f":"IFERROR(VLOOKUP(D112,Lists!C:E,3,FALSE),\"\")","v":""}]
[{"$f":"_xlfn.IFS(C1=\"Decimal\",(IF(INT(RIGHT(CONCATENATE(IF($C$2<10,CONCATENATE(\"0\",$C$2),$C$2),\".\",\"108\"),3))<($C$3+1),CONCATENATE(IF($C$2<10,CONCATENATE(\"0\",$C$2),$C$2),\".\",\"108\"),\"\")),C1=\"Hex\",(IF(INT(RIGHT(CONCATENATE(IF($C$2<10,CONCATENATE(\"0\",$C$2),$C$2),\".\",\"108\"),3))<($C$3+1),CONCATENATE(DEC2HEX($C$2),\".\",\"108\"),\"\")))","v":""},"","",null,{"$f":"IFERROR(VLOOKUP(D113,Lists!C:D,2,FALSE),\"\")","v":""},{"$f":"IFERROR(VLOOKUP(D113,Lists!C:E,3,FALSE),\"\")","v":""}]
[{"$f":"_xlfn.IFS(C1=\"Decimal\",(IF(INT(RIGHT(CONCATENATE(IF($C$2<10,CONCATENATE(\"0\",$C$2),$C$2),\".\",\"109\"),3))<($C$3+1),CONCATENATE(IF($C$2<10,CONCATENATE(\"0\",$C$2),$C$2),\".\",\"109\"),\"\")),C1=\"Hex\",(IF(INT(RIGHT(CONCATENATE(IF($C$2<10,CONCATENATE(\"0\",$C$2),$C$2),\".\",\"109\"),3))<($C$3+1),CONCATENATE(DEC2HEX($C$2),\".\",\"109\"),\"\")))","v":""},"","",null,{"$f":"IFERROR(VLOOKUP(D114,Lists!C:D,2,FALSE),\"\")","v":""},{"$f":"IFERROR(VLOOKUP(D114,Lists!C:E,3,FALSE),\"\")","v":""}]
[{"$f":"_xlfn.IFS(C1=\"Decimal\",(IF(INT(RIGHT(CONCATENATE(IF($C$2<10,CONCATENATE(\"0\",$C$2),$C$2),\".\",\"110\"),3))<($C$3+1),CONCATENATE(IF($C$2<10,CONCATENATE(\"0\",$C$2),$C$2),\".\",\"110\"),\"\")),C1=\"Hex\",(IF(INT(RIGHT(CONCATENATE(IF($C$2<10,CONCATENATE(\"0\",$C$2),$C$2),\".\",\"110\"),3))<($C$3+1),CONCATENATE(DEC2HEX($C$2),\".\",\"110\"),\"\")))","v":""},"","",null,{"$f":"IFERROR(VLOOKUP(D115,Lists!C:D,2,FALSE),\"\")","v":""},{"$f":"IFERROR(VLOOKUP(D115,Lists!C:E,3,FALSE),\"\")","v":""}]
[{"$f":"_xlfn.IFS(C1=\"Decimal\",(IF(INT(RIGHT(CONCATENATE(IF($C$2<10,CONCATENATE(\"0\",$C$2),$C$2),\".\",\"111\"),3))<($C$3+1),CONCATENATE(IF($C$2<10,CONCATENATE(\"0\",$C$2),$C$2),\".\",\"111\"),\"\")),C1=\"Hex\",(IF(INT(RIGHT(CONCATENATE(IF($C$2<10,CONCATENATE(\"0\",$C$2),$C$2),\".\",\"111\"),3))<($C$3+1),CONCATENATE(DEC2HEX($C$2),\".\",\"111\"),\"\")))","v":""},"","",null,{"$f":"IFERROR(VLOOKUP(D116,Lists!C:D,2,FALSE),\"\")","v":""},{"$f":"IFERROR(VLOOKUP(D116,Lists!C:E,3,FALSE),\"\")","v":""}]
[{"$f":"_xlfn.IFS(C1=\"Decimal\",(IF(INT(RIGHT(CONCATENATE(IF($C$2<10,CONCATENATE(\"0\",$C$2),$C$2),\".\",\"112\"),3))<($C$3+1),CONCATENATE(IF($C$2<10,CONCATENATE(\"0\",$C$2),$C$2),\".\",\"112\"),\"\")),C1=\"Hex\",(IF(INT(RIGHT(CONCATENATE(IF($C$2<10,CONCATENATE(\"0\",$C$2),$C$2),\".\",\"112\"),3))<($C$3+1),CONCATENATE(DEC2HEX($C$2),\".\",\"112\"),\"\")))","v":""},"","",null,{"$f":"IFERROR(VLOOKUP(D117,Lists!C:D,2,FALSE),\"\")","v":""},{"$f":"IFERROR(VLOOKUP(D117,Lists!C:E,3,FALSE),\"\")","v":""}]
[{"$f":"_xlfn.IFS(C1=\"Decimal\",(IF(INT(RIGHT(CONCATENATE(IF($C$2<10,CONCATENATE(\"0\",$C$2),$C$2),\".\",\"113\"),3))<($C$3+1),CONCATENATE(IF($C$2<10,CONCATENATE(\"0\",$C$2),$C$2),\".\",\"113\"),\"\")),C1=\"Hex\",(IF(INT(RIGHT(CONCATENATE(IF($C$2<10,CONCATENATE(\"0\",$C$2),$C$2),\".\",\"113\"),3))<($C$3+1),CONCATENATE(DEC2HEX($C$2),\".\",\"113\"),\"\")))","v":""},"","",null,{"$f":"IFERROR(VLOOKUP(D118,Lists!C:D,2,FALSE),\"\")","v":""},{"$f":"IFERROR(VLOOKUP(D118,Lists!C:E,3,FALSE),\"\")","v":""}]
[{"$f":"_xlfn.IFS(C1=\"Decimal\",(IF(INT(RIGHT(CONCATENATE(IF($C$2<10,CONCATENATE(\"0\",$C$2),$C$2),\".\",\"114\"),3))<($C$3+1),CONCATENATE(IF($C$2<10,CONCATENATE(\"0\",$C$2),$C$2),\".\",\"114\"),\"\")),C1=\"Hex\",(IF(INT(RIGHT(CONCATENATE(IF($C$2<10,CONCATENATE(\"0\",$C$2),$C$2),\".\",\"114\"),3))<($C$3+1),CONCATENATE(DEC2HEX($C$2),\".\",\"114\"),\"\")))","v":""},"","",null,{"$f":"IFERROR(VLOOKUP(D119,Lists!C:D,2,FALSE),\"\")","v":""},{"$f":"IFERROR(VLOOKUP(D119,Lists!C:E,3,FALSE),\"\")","v":""}]
[{"$f":"_xlfn.IFS(C1=\"Decimal\",(IF(INT(RIGHT(CONCATENATE(IF($C$2<10,CONCATENATE(\"0\",$C$2),$C$2),\".\",\"115\"),3))<($C$3+1),CONCATENATE(IF($C$2<10,CONCATENATE(\"0\",$C$2),$C$2),\".\",\"115\"),\"\")),C1=\"Hex\",(IF(INT(RIGHT(CONCATENATE(IF($C$2<10,CONCATENATE(\"0\",$C$2),$C$2),\".\",\"115\"),3))<($C$3+1),CONCATENATE(DEC2HEX($C$2),\".\",\"115\"),\"\")))","v":""},"","",null,{"$f":"IFERROR(VLOOKUP(D120,Lists!C:D,2,FALSE),\"\")","v":""},{"$f":"IFERROR(VLOOKUP(D120,Lists!C:E,3,FALSE),\"\")","v":""}]
[{"$f":"_xlfn.IFS(C1=\"Decimal\",(IF(INT(RIGHT(CONCATENATE(IF($C$2<10,CONCATENATE(\"0\",$C$2),$C$2),\".\",\"116\"),3))<($C$3+1),CONCATENATE(IF($C$2<10,CONCATENATE(\"0\",$C$2),$C$2),\".\",\"116\"),\"\")),C1=\"Hex\",(IF(INT(RIGHT(CONCATENATE(IF($C$2<10,CONCATENATE(\"0\",$C$2),$C$2),\".\",\"116\"),3))<($C$3+1),CONCATENATE(DEC2HEX($C$2),\".\",\"116\"),\"\")))","v":""},"","",null,{"$f":"IFERROR(VLOOKUP(D121,Lists!C:D,2,FALSE),\"\")","v":""},{"$f":"IFERROR(VLOOKUP(D121,Lists!C:E,3,FALSE),\"\")","v":""}]
[{"$f":"_xlfn.IFS(C1=\"Decimal\",(IF(INT(RIGHT(CONCATENATE(IF($C$2<10,CONCATENATE(\"0\",$C$2),$C$2),\".\",\"117\"),3))<($C$3+1),CONCATENATE(IF($C$2<10,CONCATENATE(\"0\",$C$2),$C$2),\".\",\"117\"),\"\")),C1=\"Hex\",(IF(INT(RIGHT(CONCATENATE(IF($C$2<10,CONCATENATE(\"0\",$C$2),$C$2),\".\",\"117\"),3))<($C$3+1),CONCATENATE(DEC2HEX($C$2),\".\",\"117\"),\"\")))","v":""},"","",null,{"$f":"IFERROR(VLOOKUP(D122,Lists!C:D,2,FALSE),\"\")","v":""},{"$f":"IFERROR(VLOOKUP(D122,Lists!C:E,3,FALSE),\"\")","v":""}]
[{"$f":"_xlfn.IFS(C1=\"Decimal\",(IF(INT(RIGHT(CONCATENATE(IF($C$2<10,CONCATENATE(\"0\",$C$2),$C$2),\".\",\"118\"),3))<($C$3+1),CONCATENATE(IF($C$2<10,CONCATENATE(\"0\",$C$2),$C$2),\".\",\"118\"),\"\")),C1=\"Hex\",(IF(INT(RIGHT(CONCATENATE(IF($C$2<10,CONCATENATE(\"0\",$C$2),$C$2),\".\",\"118\"),3))<($C$3+1),CONCATENATE(DEC2HEX($C$2),\".\",\"118\"),\"\")))","v":""},"","",null,{"$f":"IFERROR(VLOOKUP(D123,Lists!C:D,2,FALSE),\"\")","v":""},{"$f":"IFERROR(VLOOKUP(D123,Lists!C:E,3,FALSE),\"\")","v":""}]
[{"$f":"_xlfn.IFS(C1=\"Decimal\",(IF(INT(RIGHT(CONCATENATE(IF($C$2<10,CONCATENATE(\"0\",$C$2),$C$2),\".\",\"119\"),3))<($C$3+1),CONCATENATE(IF($C$2<10,CONCATENATE(\"0\",$C$2),$C$2),\".\",\"119\"),\"\")),C1=\"Hex\",(IF(INT(RIGHT(CONCATENATE(IF($C$2<10,CONCATENATE(\"0\",$C$2),$C$2),\".\",\"119\"),3))<($C$3+1),CONCATENATE(DEC2HEX($C$2),\".\",\"119\"),\"\")))","v":""},"","",null,{"$f":"IFERROR(VLOOKUP(D124,Lists!C:D,2,FALSE),\"\")","v":""},{"$f":"IFERROR(VLOOKUP(D124,Lists!C:E,3,FALSE),\"\")","v":""}]
[{"$f":"_xlfn.IFS(C1=\"Decimal\",(IF(INT(RIGHT(CONCATENATE(IF($C$2<10,CONCATENATE(\"0\",$C$2),$C$2),\".\",\"120\"),3))<($C$3+1),CONCATENATE(IF($C$2<10,CONCATENATE(\"0\",$C$2),$C$2),\".\",\"120\"),\"\")),C1=\"Hex\",(IF(INT(RIGHT(CONCATENATE(IF($C$2<10,CONCATENATE(\"0\",$C$2),$C$2),\".\",\"120\"),3))<($C$3+1),CONCATENATE(DEC2HEX($C$2),\".\",\"120\"),\"\")))","v":""},"","",null,{"$f":"IFERROR(VLOOKUP(D125,Lists!C:D,2,FALSE),\"\")","v":""},{"$f":"IFERROR(VLOOKUP(D125,Lists!C:E,3,FALSE),\"\")","v":""}]
[{"$f":"_xlfn.IFS(C1=\"Decimal\",(IF(INT(RIGHT(CONCATENATE(IF($C$2<10,CONCATENATE(\"0\",$C$2),$C$2),\".\",\"121\"),3))<($C$3+1),CONCATENATE(IF($C$2<10,CONCATENATE(\"0\",$C$2),$C$2),\".\",\"121\"),\"\")),C1=\"Hex\",(IF(INT(RIGHT(CONCATENATE(IF($C$2<10,CONCATENATE(\"0\",$C$2),$C$2),\".\",\"121\"),3))<($C$3+1),CONCATENATE(DEC2HEX($C$2),\".\",\"121\"),\"\")))","v":""},"","",null,{"$f":"IFERROR(VLOOKUP(D126,Lists!C:D,2,FALSE),\"\")","v":""},{"$f":"IFERROR(VLOOKUP(D126,Lists!C:E,3,FALSE),\"\")","v":""}]
[{"$f":"_xlfn.IFS(C1=\"Decimal\",(IF(INT(RIGHT(CONCATENATE(IF($C$2<10,CONCATENATE(\"0\",$C$2),$C$2),\".\",\"122\"),3))<($C$3+1),CONCATENATE(IF($C$2<10,CONCATENATE(\"0\",$C$2),$C$2),\".\",\"122\"),\"\")),C1=\"Hex\",(IF(INT(RIGHT(CONCATENATE(IF($C$2<10,CONCATENATE(\"0\",$C$2),$C$2),\".\",\"122\"),3))<($C$3+1),CONCATENATE(DEC2HEX($C$2),\".\",\"122\"),\"\")))","v":""},"","",null,{"$f":"IFERROR(VLOOKUP(D127,Lists!C:D,2,FALSE),\"\")","v":""},{"$f":"IFERROR(VLOOKUP(D127,Lists!C:E,3,FALSE),\"\")","v":""}]
[{"$f":"_xlfn.IFS(C1=\"Decimal\",(IF(INT(RIGHT(CONCATENATE(IF($C$2<10,CONCATENATE(\"0\",$C$2),$C$2),\".\",\"123\"),3))<($C$3+1),CONCATENATE(IF($C$2<10,CONCATENATE(\"0\",$C$2),$C$2),\".\",\"123\"),\"\")),C1=\"Hex\",(IF(INT(RIGHT(CONCATENATE(IF($C$2<10,CONCATENATE(\"0\",$C$2),$C$2),\".\",\"123\"),3))<($C$3+1),CONCATENATE(DEC2HEX($C$2),\".\",\"123\"),\"\")))","v":""},"","",null,{"$f":"IFERROR(VLOOKUP(D128,Lists!C:D,2,FALSE),\"\")","v":""},{"$f":"IFERROR(VLOOKUP(D128,Lists!C:E,3,FALSE),\"\")","v":""}]
[{"$f":"_xlfn.IFS(C1=\"Decimal\",(IF(INT(RIGHT(CONCATENATE(IF($C$2<10,CONCATENATE(\"0\",$C$2),$C$2),\".\",\"124\"),3))<($C$3+1),CONCATENATE(IF($C$2<10,CONCATENATE(\"0\",$C$2),$C$2),\".\",\"124\"),\"\")),C1=\"Hex\",(IF(INT(RIGHT(CONCATENATE(IF($C$2<10,CONCATENATE(\"0\",$C$2),$C$2),\".\",\"124\"),3))<($C$3+1),CONCATENATE(DEC2HEX($C$2),\".\",\"124\"),\"\")))","v":""},"","",null,{"$f":"IFERROR(VLOOKUP(D129,Lists!C:D,2,FALSE),\"\")","v":""},{"$f":"IFERROR(VLOOKUP(D129,Lists!C:E,3,FALSE),\"\")","v":""}]
[{"$f":"_xlfn.IFS(C1=\"Decimal\",(IF(INT(RIGHT(CONCATENATE(IF($C$2<10,CONCATENATE(\"0\",$C$2),$C$2),\".\",\"125\"),3))<($C$3+1),CONCATENATE(IF($C$2<10,CONCATENATE(\"0\",$C$2),$C$2),\".\",\"125\"),\"\")),C1=\"Hex\",(IF(INT(RIGHT(CONCATENATE(IF($C$2<10,CONCATENATE(\"0\",$C$2),$C$2),\".\",\"125\"),3))<($C$3+1),CONCATENATE(DEC2HEX($C$2),\".\",\"125\"),\"\")))","v":""},"","",null,{"$f":"IFERROR(VLOOKUP(D130,Lists!C:D,2,FALSE),\"\")","v":""},{"$f":"IFERROR(VLOOKUP(D130,Lists!C:E,3,FALSE),\"\")","v":""}]
[{"$f":"_xlfn.IFS(C1=\"Decimal\",(IF(INT(RIGHT(CONCATENATE(IF($C$2<10,CONCATENATE(\"0\",$C$2),$C$2),\".\",\"126\"),3))<($C$3+1),CONCATENATE(IF($C$2<10,CONCATENATE(\"0\",$C$2),$C$2),\".\",\"126\"),\"\")),C1=\"Hex\",(IF(INT(RIGHT(CONCATENATE(IF($C$2<10,CONCATENATE(\"0\",$C$2),$C$2),\".\",\"126\"),3))<($C$3+1),CONCATENATE(DEC2HEX($C$2),\".\",\"126\"),\"\")))","v":""},"","",null,{"$f":"IFERROR(VLOOKUP(D131,Lists!C:D,2,FALSE),\"\")","v":""},{"$f":"IFERROR(VLOOKUP(D131,Lists!C:E,3,FALSE),\"\")","v":""}]
[null,"",""]
[null,"",""]